{"text_format":"3","workbook":"xlsx","n_sheets":7,"sheets":["Данные","Зацепы","Лист2","Рельефы","Для тренировки NEW! 2023","Крепеж","Формирование"],"not_rendered":{"images":213,"macros":1},"read":"whole","date_system":"1900"}

{"sheet":"Данные","index":0,"n_rows":30,"n_cols":8,"rows_kept":30,"merged":[[0,0,1,5],[0,7,0,9],[1,7,12,9],[2,1,2,5],[3,1,3,5],[4,1,4,5],[5,1,5,5],[6,1,6,5],[7,1,7,5],[8,1,8,5],[10,0,10,5],[11,1,11,5],[12,1,12,5],[14,0,14,1],[14,2,14,3],[14,7,14,9],[15,0,15,1],[15,2,15,3],[15,7,15,9],[16,0,16,1],[16,2,16,3],[16,7,16,9],[17,0,17,1],[17,2,17,3],[17,7,17,9],[18,0,18,1],[18,2,18,3],[19,0,19,1],[19,2,19,3],[21,0,24,4]]}
["Пожалуйста, укажите свои данные:",{"$nulls":6},"Реквизиты"]
[{"$nulls":7},"Индивидуальный предприниматель Овчинников Евгений Витальевич\n660130, Россия г.Красноярск\n ул. Мирошниченко д.6 кв. 49 тел. 89039238749\nОГРНИП 308246833600171,\nИНН  246303349650 \nр/сч  40802 810 4234 3000 0283 в ФИЛИАЛ \"НОВОСИБИРСКИЙ\" АО \"АЛЬФА-БАНК\",\nБИК  045004774,  к/с  30101810600000000774"]
["Название компании:"]
["Контактное лицо:"]
["Регион:"]
["Город:"]
["Адрес:"]
["Телефон:"]
["E-mail:"]
[]
["Информация о получателе груза:"]
["Для частного лица/ФИО полностью:"]
["Для организаций/ Полное название:"]
[]
["Количество наборов зацепов:",null,{"$f":"SUM(Зацепы!M7:W7,Зацепы!M9:W19,Зацепы!M22:W28,Зацепы!M30:W35,Зацепы!M39:W51,Зацепы!M53:W60,Зацепы!M62:W69,Зацепы!M72:W75,Зацепы!M78:W92,'Для тренировки NEW! 2023'!F3:P7)","v":0},null,"шт.",null,null,"г.Красноярск   "]
["Количество зацепов:",null,{"$f":"SUM(Зацепы!K4,'Для тренировки NEW! 2023'!O13:Q13)","v":0},null,"шт.",null,null,"Овчинников Евгений"]
["Количество рельефов:",null,{"$f":"SUM(Рельефы!AA4)","v":0},null,"шт.",null,null,"+7(903) 923-87-49"]
["Общая стоимость заказа:",null,{"$f":"SUM(Зацепы!Y4,Рельефы!Y4,'Для тренировки NEW! 2023'!S13:T13,Крепеж!G17)","v":0},null,"руб.",null,null,"sales@aztec-climber.ru"]
["Общий вес заказа:",null,{"$f":"SUM(Зацепы!X4,Рельефы!X4,'Для тренировки NEW! 2023'!R13,Крепеж!F17)","v":0},null,"кг"]
["Приблизительный объем:",null,{"$f":"C15*0.007+C17*0.015","v":0},null,"м3"]
[]
["Доставка в большинство городов осуществляется компаниями Деловые линии, ПЭК, GTD или СДЭК. Для ориентировочной калькуляции стоимости доставки введите вес и объем заказа на сайте перевозчика"]
[]
[]
[]
[]
[null,"http://krasnoyarsk.dellin.ru"]
[null,"https://cdek.ru/"]
[null,"https://gtdel.com/"]
[null,"https://pecom.ru/"]

{"sheet":"Зацепы","index":1,"n_rows":92,"n_cols":34,"rows_kept":92,"merged":[[0,0,3,0],[0,1,3,1],[0,2,3,2],[0,3,1,9],[0,10,1,10],[0,11,1,11],[0,12,0,22],[0,23,1,23],[0,24,1,24],[0,25,1,32],[2,10,2,11],[3,10,3,11],[4,0,4,32],[5,12,5,22],[7,10,7,24],[7,25,7,32],[8,25,18,32],[19,10,19,24],[28,10,28,24],[35,10,35,24],[51,10,51,24],[60,10,60,24],[69,10,69,24],[75,0,75,32],[76,10,76,24]]}
["Название комплекта/Размерные Группы","Количество зацепов в комплекте","Изображение ","   Размеры зацепов в комплекте, шт",{"$nulls":6},"Вес комплекта","Цена комплекта","Выберите количество комплектов по цвету",{"$nulls":10},"Общий вес","Общая стоимость","Длина необходимых болтов для заказанных комплектов, шт."]
[{"$nulls":12},"Любой цвет","3028 RAL","5015 RAL","1018 RAL","6037 RAL","9016 RAL","9005 RAL","2003 RAL","4008 RAL","Зеленый флюр +10%","Розовый флюр +10%"]
[{"$nulls":3},"XS","S","M","L","XL","XXL","GIGA","Общее кол-во:",null,"шт.","шт.","шт.","шт.","шт.","шт.","шт.","шт.","шт.","шт.","шт.","кг","руб.","40мм","50мм","60мм","70мм","80мм","90мм","100мм","120мм"]
[{"$nulls":3},{"$f":"D7*SUM(M7:W7)+D9*SUM(M9:W9)+D10*SUM(M10:W10)+D11*SUM(M11:W11)+D12*SUM(M12:W12)+D13*SUM(M13:W13)+D14*SUM(M14:W14)+D15*SUM(M15:W15)+D16*SUM(M16:W16)+D17*SUM(M17:W17)+D18*SUM(M18:W18)+D19*SUM(M19:W19)+D23*SUM(M23:W23)+D25*SUM(M25:W25)+D28*SUM(M28:W28)+D78*SUM(M78:W78)+D79*SUM(M79:W79)+D80*SUM(M80:W80)","v":0},{"$f":"+E9*SUM(M9:W9)+E22*SUM(M22:W22)+E23*SUM(M23:W23)+E24*SUM(M24:W24)+E25*SUM(M25:W25)+E26*SUM(M26:W26)+E27*SUM(M27:W27)+E28*SUM(M28:W28)+E31*SUM(M31:W31)+E39*SUM(M39:W39)+E79*SUM(M79:W79)+E80*SUM(M80:W80)+E81*SUM(M81:W81)+E82*SUM(M82:W82)+E84*SUM(M84:W84)+E87*SUM(M87:W87)+E10*SUM(M10:W10)+E11*SUM(M11:W11)+E12*SUM(M12:W12)+E78*SUM(M78:W78)","v":0},{"$f":"F26*SUM(M26:W26)+F27*SUM(M27:W27)+F28*SUM(M28:W28)+F30*SUM(M30:W30)+F31*SUM(M31:W31)+F32*SUM(M32:W32)+F33*SUM(M33:W33)+F39*SUM(M39:W39)+F40*SUM(M40:W40)+F49*SUM(M49:W49)+F81*SUM(M81:W81)+F83*SUM(M83:W83)+F84*SUM(M84:W84)+F85*SUM(M85:W85)+F86*SUM(M86:W86)+F87*SUM(M87:W87)+F88*SUM(M88:W88)+F89*SUM(M89:W89)+F90*SUM(M90:W90)+F21*SUM(M21:W21)+F22*SUM(M22:W22)+F23*SUM(M23:W23)+F24*SUM(M24:W24)+F25*SUM(M25:W25)+F35*SUM(M35:W35)+F37*SUM(M37:W37)+F38*SUM(M38:W38)+F42*SUM(M42:W42)+F44*SUM(M44:W44)+F57*SUM(M57:W57)+F82*SUM(M82:W82)+F80*SUM(M80:W80)+F79*SUM(M79:W79)+F34*SUM(M34:W34)","v":0},{"$f":"G28*SUM(M28:W28)+G31*SUM(M31:W31)+G32*SUM(M32:W32)+G33*SUM(M33:W33)+G39*SUM(M39:W39)+G40*SUM(M40:W40)+G41*SUM(M41:W41)+G42*SUM(M42:W42)+G43*SUM(M43:W43)+G44*SUM(M44:W44)+G45*SUM(M45:W45)+G49*SUM(M49:W49)+G51*SUM(M51:W51)+G53*SUM(M53:W53)+G54*SUM(M54:W54)+G55*SUM(M55:W55)+G56*SUM(M56:W56)+G57*SUM(M57:W57)+G48*SUM(M48:W48)+G46*SUM(M46:W46)+G47*SUM(M47:W47)+G88*SUM(M88:W88)+G89*SUM(M89:W89)+G90*SUM(M90:W90)+G91*SUM(M91:W91)+G92*SUM(M92:W92)+G35*SUM(M35:W35)+G37*SUM(M37:W37)+G38*SUM(M38:W38)+G50*SUM(M50:W50)+G59*SUM(M59:W59)+G60*SUM(M60:W60)+G68*SUM(M68:W68)+G81*SUM(M81:W81)+G83*SUM(M83:W83)+G84*SUM(M84:W84)+G85*SUM(M85:W85)+G87*SUM(M87:W87)","v":0},{"$f":"H60*SUM(M60:W60)+H55*SUM(M55:W55)+H54*SUM(M54:W54)+H53*SUM(M53:W53)+H51*SUM(M51:W51)+H43*SUM(M43:W43)+H41*SUM(M41:W41)+H39*SUM(M39:W39)+H49*SUM(M49:W49)+H56*SUM(M56:W56)+H57*SUM(M57:W57)+H58*SUM(M58:W58)+H48*SUM(M48:W48)+H92*SUM(M92:W92)+H45*SUM(M45:W45)+H46*SUM(M46:W46)+H47*SUM(M47:W47)+H50*SUM(M50:W50)+H66*SUM(M66:W66)+H67*SUM(M67:W67)+H68*SUM(M68:W68)+H69*SUM(M69:W69)+H72*SUM(M72:W72)+H84*SUM(M84:W84)+H85*SUM(M85:W85)+H86*SUM(M86:W86)+H87*SUM(M87:W87)+H88*SUM(M88:W88)","v":0},{"$f":"I62*SUM(M62:W62)+I66*SUM(M66:W66)+I67*SUM(M67:W67)+I68*SUM(M68:W68)+I69*SUM(M69:W69)+I64*SUM(M64:W64)+I63*SUM(M63:W63)+I65*SUM(M65:W65)+I58*SUM(M58:W58)+I60*SUM(M60:W60)+I72*SUM(M72:W72)+I86*SUM(M86:W86)+I87*SUM(M87:W87)+I89*SUM(M89:W89)+I90*SUM(M90:W90)+I51*SUM(M51:W51)","v":0},{"$f":"J74*SUM(M74:W74)+J64*SUM(M64:W64)+J63*SUM(M63:W63)+J65*SUM(M65:W65)+J73*SUM(M73:W73)+J72*SUM(M72:W72)+J75*SUM(M75:W75)+J90*SUM(M90:W90)+J91*SUM(M91:W91)+J92*SUM(M92:W92)+J71*SUM(M71:W71)+J58*SUM(M58:W58)","v":0},{"$f":"SUM(D4:J4)","v":0},null,{"$f":"SUM(M7*$B$7)+SUM(M9*$B$9)+SUM(M10*$B$10)+SUM(M15*$B$15)+SUM(M16*$B$16)+SUM(M17*$B$17)+SUM(M18*$B$18)+SUM(M19*$B$19)+SUM(M22*$B$22)+SUM(M23*$B$23)+SUM(M24*$B$24)+SUM(M25*$B$25)+SUM(M26*$B$26)+SUM(M27*$B$27)+SUM(M28*$B$28)+SUM(M30*$B$30)+SUM(M31*$B$31)+SUM(M32*$B$32)+SUM(M33*$B$33)+SUM(M39*$B$39)+SUM(M40*$B$40)+SUM(M41*$B$41)+SUM(M42*$B$42)+SUM(M43*$B$43)+SUM(M44*$B$44)+SUM(M45*$B$45)+SUM(M49*$B$49)+SUM(M51*$B$51)+SUM(M53*$B$53)+SUM(M54*$B$54)+SUM(M55*$B$55)+SUM(M56*$B$56)+SUM(M57*$B$57)+SUM(M60*$B$60)+SUM(M62*$B$62)+SUM(M63*$B$63)+SUM(M66*$B$66)+SUM(M67*$B$67)+SUM(M68*$B$68)+SUM(M69*$B$69)++SUM(M74*$B$74)+SUM(M64*$B$64)+SUM(M65*$B$65)+SUM(M11*$B$11)+SUM(M12*$B$12)+SUM(M13*$B$13)+SUM(M14*$B$14)+SUM(M58*$B$58)+SUM(M48*$B$48)+SUM(M73*$B$73)+SUM(M72*$B$72)+SUM($B$46*M46)+SUM($B$47*M47)+SUM($B$75*M75)+SUM($B$78*M78)+SUM($B$79*M79)+SUM($B$80*M80)+SUM($B$81*M81)+SUM($B$82*M82)+SUM($B$83*M83)+SUM($B$84*M84)+SUM($B$85*M85)+SUM($B$86*M86)+SUM($B$87*M87)+SUM($B$88*M88)+SUM($B$89*M89)+SUM($B$90*M90)+SUM($B$91*M91)+SUM($B$92*M92)+SUM(B21*M21)+SUM(B35*M35)+SUM(B37*M37)+SUM(B38*M38)+SUM(B71*M71)+B59*M59+B50*M50+B34*M34","v":0},{"$f":"SUM(N7*$B$7)+SUM(N9*$B$9)+SUM(N10*$B$10)+SUM(N15*$B$15)+SUM(N16*$B$16)+SUM(N17*$B$17)+SUM(N18*$B$18)+SUM(N19*$B$19)+SUM(N22*$B$22)+SUM(N23*$B$23)+SUM(N24*$B$24)+SUM(N25*$B$25)+SUM(N26*$B$26)+SUM(N27*$B$27)+SUM(N28*$B$28)+SUM(N30*$B$30)+SUM(N31*$B$31)+SUM(N32*$B$32)+SUM(N33*$B$33)+SUM(N39*$B$39)+SUM(N40*$B$40)+SUM(N41*$B$41)+SUM(N42*$B$42)+SUM(N43*$B$43)+SUM(N44*$B$44)+SUM(N45*$B$45)+SUM(N49*$B$49)+SUM(N51*$B$51)+SUM(N53*$B$53)+SUM(N54*$B$54)+SUM(N55*$B$55)+SUM(N56*$B$56)+SUM(N57*$B$57)+SUM(N60*$B$60)+SUM(N62*$B$62)+SUM(N63*$B$63)+SUM(N66*$B$66)+SUM(N67*$B$67)+SUM(N68*$B$68)+SUM(N69*$B$69)++SUM(N74*$B$74)+SUM(N64*$B$64)+SUM(N65*$B$65)+SUM(N11*$B$11)+SUM(N12*$B$12)+SUM(N13*$B$13)+SUM(N14*$B$14)+SUM(N58*$B$58)+SUM(N48*$B$48)+SUM(N73*$B$73)+SUM(N72*$B$72)+SUM($B$46*N46)+SUM($B$47*N47)+SUM($B$75*N75)+SUM($B$78*N78)+SUM($B$79*N79)+SUM($B$80*N80)+SUM($B$81*N81)+SUM($B$82*N82)+SUM($B$83*N83)+SUM($B$84*N84)+SUM($B$85*N85)+SUM($B$86*N86)+SUM($B$87*N87)+SUM($B$88*N88)+SUM($B$89*N89)+SUM($B$90*N90)+SUM($B$91*N91)+SUM($B$92*N92)+SUM(B21*N21)+SUM(B35*N35)+SUM(B37*N37)+SUM(B38*N38)+SUM(B71*N71)+B59*N59+B50*N50+B34*N34","v":0},{"$f":"SUM(O7*$B$7)+SUM(O9*$B$9)+SUM(O10*$B$10)+SUM(O15*$B$15)+SUM(O16*$B$16)+SUM(O17*$B$17)+SUM(O18*$B$18)+SUM(O19*$B$19)+SUM(O22*$B$22)+SUM(O23*$B$23)+SUM(O24*$B$24)+SUM(O25*$B$25)+SUM(O26*$B$26)+SUM(O27*$B$27)+SUM(O28*$B$28)+SUM(O30*$B$30)+SUM(O31*$B$31)+SUM(O32*$B$32)+SUM(O33*$B$33)+SUM(O39*$B$39)+SUM(O40*$B$40)+SUM(O41*$B$41)+SUM(O42*$B$42)+SUM(O43*$B$43)+SUM(O44*$B$44)+SUM(O45*$B$45)+SUM(O49*$B$49)+SUM(O51*$B$51)+SUM(O53*$B$53)+SUM(O54*$B$54)+SUM(O55*$B$55)+SUM(O56*$B$56)+SUM(O57*$B$57)+SUM(O60*$B$60)+SUM(O62*$B$62)+SUM(O63*$B$63)+SUM(O66*$B$66)+SUM(O67*$B$67)+SUM(O68*$B$68)+SUM(O69*$B$69)++SUM(O74*$B$74)+SUM(O64*$B$64)+SUM(O65*$B$65)+SUM(O11*$B$11)+SUM(O12*$B$12)+SUM(O13*$B$13)+SUM(O14*$B$14)+SUM(O58*$B$58)+SUM(O48*$B$48)+SUM(O73*$B$73)+SUM(O72*$B$72)+SUM($B$46*O46)+SUM($B$47*O47)+SUM($B$75*O75)+SUM($B$78*O78)+SUM($B$79*O79)+SUM($B$80*O80)+SUM($B$81*O81)+SUM($B$82*O82)+SUM($B$83*O83)+SUM($B$84*O84)+SUM($B$85*O85)+SUM($B$86*O86)+SUM($B$87*O87)+SUM($B$88*O88)+SUM($B$89*O89)+SUM($B$90*O90)+SUM($B$91*O91)+SUM($B$92*O92)+SUM(B21*O21)+SUM(B35*O35)+SUM(B37*O37)+SUM(B38*O38)+SUM(B71*O71)+B59*O59+B50*O50+B34*O34","v":0},{"$f":"SUM(P7*$B$7)+SUM(P9*$B$9)+SUM(P10*$B$10)+SUM(P15*$B$15)+SUM(P16*$B$16)+SUM(P17*$B$17)+SUM(P18*$B$18)+SUM(P19*$B$19)+SUM(P22*$B$22)+SUM(P23*$B$23)+SUM(P24*$B$24)+SUM(P25*$B$25)+SUM(P26*$B$26)+SUM(P27*$B$27)+SUM(P28*$B$28)+SUM(P30*$B$30)+SUM(P31*$B$31)+SUM(P32*$B$32)+SUM(P33*$B$33)+SUM(P39*$B$39)+SUM(P40*$B$40)+SUM(P41*$B$41)+SUM(P42*$B$42)+SUM(P43*$B$43)+SUM(P44*$B$44)+SUM(P45*$B$45)+SUM(P49*$B$49)+SUM(P51*$B$51)+SUM(P53*$B$53)+SUM(P54*$B$54)+SUM(P55*$B$55)+SUM(P56*$B$56)+SUM(P57*$B$57)+SUM(P60*$B$60)+SUM(P62*$B$62)+SUM(P63*$B$63)+SUM(P66*$B$66)+SUM(P67*$B$67)+SUM(P68*$B$68)+SUM(P69*$B$69)++SUM(P74*$B$74)+SUM(P64*$B$64)+SUM(P65*$B$65)+SUM(P11*$B$11)+SUM(P12*$B$12)+SUM(P13*$B$13)+SUM(P14*$B$14)+SUM(P58*$B$58)+SUM(P48*$B$48)+SUM(P73*$B$73)+SUM(P72*$B$72)+SUM($B$46*P46)+SUM($B$47*P47)+SUM($B$75*P75)+SUM($B$78*P78)+SUM($B$79*P79)+SUM($B$80*P80)+SUM($B$81*P81)+SUM($B$82*P82)+SUM($B$83*P83)+SUM($B$84*P84)+SUM($B$85*P85)+SUM($B$86*P86)+SUM($B$87*P87)+SUM($B$88*P88)+SUM($B$89*P89)+SUM($B$90*P90)+SUM($B$91*P91)+SUM($B$92*P92)+SUM(B21*P21)+SUM(B35*P35)+SUM(B37*P37)+SUM(B38*P38)+SUM(B71*P71)+B59*P59+B50*P50+B34*P34","v":0},{"$f":"SUM(Q7*$B$7)+SUM(Q9*$B$9)+SUM(Q10*$B$10)+SUM(Q15*$B$15)+SUM(Q16*$B$16)+SUM(Q17*$B$17)+SUM(Q18*$B$18)+SUM(Q19*$B$19)+SUM(Q22*$B$22)+SUM(Q23*$B$23)+SUM(Q24*$B$24)+SUM(Q25*$B$25)+SUM(Q26*$B$26)+SUM(Q27*$B$27)+SUM(Q28*$B$28)+SUM(Q30*$B$30)+SUM(Q31*$B$31)+SUM(Q32*$B$32)+SUM(Q33*$B$33)+SUM(Q39*$B$39)+SUM(Q40*$B$40)+SUM(Q41*$B$41)+SUM(Q42*$B$42)+SUM(Q43*$B$43)+SUM(Q44*$B$44)+SUM(Q45*$B$45)+SUM(Q49*$B$49)+SUM(Q51*$B$51)+SUM(Q53*$B$53)+SUM(Q54*$B$54)+SUM(Q55*$B$55)+SUM(Q56*$B$56)+SUM(Q57*$B$57)+SUM(Q60*$B$60)+SUM(Q62*$B$62)+SUM(Q63*$B$63)+SUM(Q66*$B$66)+SUM(Q67*$B$67)+SUM(Q68*$B$68)+SUM(Q69*$B$69)++SUM(Q74*$B$74)+SUM(Q64*$B$64)+SUM(Q65*$B$65)+SUM(Q11*$B$11)+SUM(Q12*$B$12)+SUM(Q13*$B$13)+SUM(Q14*$B$14)+SUM(Q58*$B$58)+SUM(Q48*$B$48)+SUM(Q73*$B$73)+SUM(Q72*$B$72)+SUM($B$46*Q46)+SUM($B$47*Q47)+SUM($B$75*Q75)+SUM($B$78*Q78)+SUM($B$79*Q79)+SUM($B$80*Q80)+SUM($B$81*Q81)+SUM($B$82*Q82)+SUM($B$83*Q83)+SUM($B$84*Q84)+SUM($B$85*Q85)+SUM($B$86*Q86)+SUM($B$87*Q87)+SUM($B$88*Q88)+SUM($B$89*Q89)+SUM($B$90*Q90)+SUM($B$91*Q91)+SUM($B$92*Q92)+SUM(B21*Q21)+SUM(B35*Q35)+SUM(B37*Q37)+SUM(B38*Q38)+SUM(B71*Q71)+B59*Q59+B50*Q50+B34*Q34","v":0},{"$f":"SUM(R7*$B$7)+SUM(R9*$B$9)+SUM(R10*$B$10)+SUM(R15*$B$15)+SUM(R16*$B$16)+SUM(R17*$B$17)+SUM(R18*$B$18)+SUM(R19*$B$19)+SUM(R22*$B$22)+SUM(R23*$B$23)+SUM(R24*$B$24)+SUM(R25*$B$25)+SUM(R26*$B$26)+SUM(R27*$B$27)+SUM(R28*$B$28)+SUM(R30*$B$30)+SUM(R31*$B$31)+SUM(R32*$B$32)+SUM(R33*$B$33)+SUM(R39*$B$39)+SUM(R40*$B$40)+SUM(R41*$B$41)+SUM(R42*$B$42)+SUM(R43*$B$43)+SUM(R44*$B$44)+SUM(R45*$B$45)+SUM(R49*$B$49)+SUM(R51*$B$51)+SUM(R53*$B$53)+SUM(R54*$B$54)+SUM(R55*$B$55)+SUM(R56*$B$56)+SUM(R57*$B$57)+SUM(R60*$B$60)+SUM(R62*$B$62)+SUM(R63*$B$63)+SUM(R66*$B$66)+SUM(R67*$B$67)+SUM(R68*$B$68)+SUM(R69*$B$69)++SUM(R74*$B$74)+SUM(R64*$B$64)+SUM(R65*$B$65)+SUM(R11*$B$11)+SUM(R12*$B$12)+SUM(R13*$B$13)+SUM(R14*$B$14)+SUM(R58*$B$58)+SUM(R48*$B$48)+SUM(R73*$B$73)+SUM(R72*$B$72)+SUM($B$46*R46)+SUM($B$47*R47)+SUM($B$75*R75)+SUM($B$78*R78)+SUM($B$79*R79)+SUM($B$80*R80)+SUM($B$81*R81)+SUM($B$82*R82)+SUM($B$83*R83)+SUM($B$84*R84)+SUM($B$85*R85)+SUM($B$86*R86)+SUM($B$87*R87)+SUM($B$88*R88)+SUM($B$89*R89)+SUM($B$90*R90)+SUM($B$91*R91)+SUM($B$92*R92)+SUM(B21*R21)+SUM(B35*R35)+SUM(B37*R37)+SUM(B38*R38)+SUM(B71*R71)+B59*R59+B50*R50+B34*R34","v":0},{"$f":"SUM(S7*$B$7)+SUM(S9*$B$9)+SUM(S10*$B$10)+SUM(S15*$B$15)+SUM(S16*$B$16)+SUM(S17*$B$17)+SUM(S18*$B$18)+SUM(S19*$B$19)+SUM(S22*$B$22)+SUM(S23*$B$23)+SUM(S24*$B$24)+SUM(S25*$B$25)+SUM(S26*$B$26)+SUM(S27*$B$27)+SUM(S28*$B$28)+SUM(S30*$B$30)+SUM(S31*$B$31)+SUM(S32*$B$32)+SUM(S33*$B$33)+SUM(S39*$B$39)+SUM(S40*$B$40)+SUM(S41*$B$41)+SUM(S42*$B$42)+SUM(S43*$B$43)+SUM(S44*$B$44)+SUM(S45*$B$45)+SUM(S49*$B$49)+SUM(S51*$B$51)+SUM(S53*$B$53)+SUM(S54*$B$54)+SUM(S55*$B$55)+SUM(S56*$B$56)+SUM(S57*$B$57)+SUM(S60*$B$60)+SUM(S62*$B$62)+SUM(S63*$B$63)+SUM(S66*$B$66)+SUM(S67*$B$67)+SUM(S68*$B$68)+SUM(S69*$B$69)++SUM(S74*$B$74)+SUM(S64*$B$64)+SUM(S65*$B$65)+SUM(S11*$B$11)+SUM(S12*$B$12)+SUM(S13*$B$13)+SUM(S14*$B$14)+SUM(S58*$B$58)+SUM(S48*$B$48)+SUM(S73*$B$73)+SUM(S72*$B$72)+SUM($B$46*S46)+SUM($B$47*S47)+SUM($B$75*S75)+SUM($B$78*S78)+SUM($B$79*S79)+SUM($B$80*S80)+SUM($B$81*S81)+SUM($B$82*S82)+SUM($B$83*S83)+SUM($B$84*S84)+SUM($B$85*S85)+SUM($B$86*S86)+SUM($B$87*S87)+SUM($B$88*S88)+SUM($B$89*S89)+SUM($B$90*S90)+SUM($B$91*S91)+SUM($B$92*S92)+SUM(B21*S21)+SUM(B35*S35)+SUM(B37*S37)+SUM(B38*S38)+SUM(B71*S71)+B59*S59+B50*S50+B34*S34","v":0},{"$f":"SUM(T7*$B$7)+SUM(T9*$B$9)+SUM(T10*$B$10)+SUM(T15*$B$15)+SUM(T16*$B$16)+SUM(T17*$B$17)+SUM(T18*$B$18)+SUM(T19*$B$19)+SUM(T22*$B$22)+SUM(T23*$B$23)+SUM(T24*$B$24)+SUM(T25*$B$25)+SUM(T26*$B$26)+SUM(T27*$B$27)+SUM(T28*$B$28)+SUM(T30*$B$30)+SUM(T31*$B$31)+SUM(T32*$B$32)+SUM(T33*$B$33)+SUM(T39*$B$39)+SUM(T40*$B$40)+SUM(T41*$B$41)+SUM(T42*$B$42)+SUM(T43*$B$43)+SUM(T44*$B$44)+SUM(T45*$B$45)+SUM(T49*$B$49)+SUM(T51*$B$51)+SUM(T53*$B$53)+SUM(T54*$B$54)+SUM(T55*$B$55)+SUM(T56*$B$56)+SUM(T57*$B$57)+SUM(T60*$B$60)+SUM(T62*$B$62)+SUM(T63*$B$63)+SUM(T66*$B$66)+SUM(T67*$B$67)+SUM(T68*$B$68)+SUM(T69*$B$69)++SUM(T74*$B$74)+SUM(T64*$B$64)+SUM(T65*$B$65)+SUM(T11*$B$11)+SUM(T12*$B$12)+SUM(T13*$B$13)+SUM(T14*$B$14)+SUM(T58*$B$58)+SUM(T48*$B$48)+SUM(T73*$B$73)+SUM(T72*$B$72)+SUM($B$46*T46)+SUM($B$47*T47)+SUM($B$75*T75)+SUM($B$78*T78)+SUM($B$79*T79)+SUM($B$80*T80)+SUM($B$81*T81)+SUM($B$82*T82)+SUM($B$83*T83)+SUM($B$84*T84)+SUM($B$85*T85)+SUM($B$86*T86)+SUM($B$87*T87)+SUM($B$88*T88)+SUM($B$89*T89)+SUM($B$90*T90)+SUM($B$91*T91)+SUM($B$92*T92)+SUM(B21*T21)+SUM(B35*T35)+SUM(B37*T37)+SUM(B38*T38)+SUM(B71*T71)+B59*T59+B50*T50+B34*T34","v":0},{"$f":"SUM(U7*$B$7)+SUM(U9*$B$9)+SUM(U10*$B$10)+SUM(U15*$B$15)+SUM(U16*$B$16)+SUM(U17*$B$17)+SUM(U18*$B$18)+SUM(U19*$B$19)+SUM(U22*$B$22)+SUM(U23*$B$23)+SUM(U24*$B$24)+SUM(U25*$B$25)+SUM(U26*$B$26)+SUM(U27*$B$27)+SUM(U28*$B$28)+SUM(U30*$B$30)+SUM(U31*$B$31)+SUM(U32*$B$32)+SUM(U33*$B$33)+SUM(U39*$B$39)+SUM(U40*$B$40)+SUM(U41*$B$41)+SUM(U42*$B$42)+SUM(U43*$B$43)+SUM(U44*$B$44)+SUM(U45*$B$45)+SUM(U49*$B$49)+SUM(U51*$B$51)+SUM(U53*$B$53)+SUM(U54*$B$54)+SUM(U55*$B$55)+SUM(U56*$B$56)+SUM(U57*$B$57)+SUM(U60*$B$60)+SUM(U62*$B$62)+SUM(U63*$B$63)+SUM(U66*$B$66)+SUM(U67*$B$67)+SUM(U68*$B$68)+SUM(U69*$B$69)++SUM(U74*$B$74)+SUM(U64*$B$64)+SUM(U65*$B$65)+SUM(U11*$B$11)+SUM(U12*$B$12)+SUM(U13*$B$13)+SUM(U14*$B$14)+SUM(U58*$B$58)+SUM(U48*$B$48)+SUM(U73*$B$73)+SUM(U72*$B$72)+SUM($B$46*U46)+SUM($B$47*U47)+SUM($B$75*U75)+SUM($B$78*U78)+SUM($B$79*U79)+SUM($B$80*U80)+SUM($B$81*U81)+SUM($B$82*U82)+SUM($B$83*U83)+SUM($B$84*U84)+SUM($B$85*U85)+SUM($B$86*U86)+SUM($B$87*U87)+SUM($B$88*U88)+SUM($B$89*U89)+SUM($B$90*U90)+SUM($B$91*U91)+SUM($B$92*U92)+SUM(B21*U21)+SUM(B35*U35)+SUM(B37*U37)+SUM(B38*U38)+SUM(B71*U71)+B59*U59+B50*U50+B34*U34","v":0},{"$f":"SUM(V7*$B$7)+SUM(V9*$B$9)+SUM(V10*$B$10)+SUM(V15*$B$15)+SUM(V16*$B$16)+SUM(V17*$B$17)+SUM(V18*$B$18)+SUM(V19*$B$19)+SUM(V22*$B$22)+SUM(V23*$B$23)+SUM(V24*$B$24)+SUM(V25*$B$25)+SUM(V26*$B$26)+SUM(V27*$B$27)+SUM(V28*$B$28)+SUM(V30*$B$30)+SUM(V31*$B$31)+SUM(V32*$B$32)+SUM(V33*$B$33)+SUM(V39*$B$39)+SUM(V40*$B$40)+SUM(V41*$B$41)+SUM(V42*$B$42)+SUM(V43*$B$43)+SUM(V44*$B$44)+SUM(V45*$B$45)+SUM(V49*$B$49)+SUM(V51*$B$51)+SUM(V53*$B$53)+SUM(V54*$B$54)+SUM(V55*$B$55)+SUM(V56*$B$56)+SUM(V57*$B$57)+SUM(V60*$B$60)+SUM(V62*$B$62)+SUM(V63*$B$63)+SUM(V66*$B$66)+SUM(V67*$B$67)+SUM(V68*$B$68)+SUM(V69*$B$69)++SUM(V74*$B$74)+SUM(V64*$B$64)+SUM(V65*$B$65)+SUM(V11*$B$11)+SUM(V12*$B$12)+SUM(V13*$B$13)+SUM(V14*$B$14)+SUM(V58*$B$58)+SUM(V48*$B$48)+SUM(V73*$B$73)+SUM(V72*$B$72)+SUM($B$46*V46)+SUM($B$47*V47)+SUM($B$75*V75)+SUM($B$78*V78)+SUM($B$79*V79)+SUM($B$80*V80)+SUM($B$81*V81)+SUM($B$82*V82)+SUM($B$83*V83)+SUM($B$84*V84)+SUM($B$85*V85)+SUM($B$86*V86)+SUM($B$87*V87)+SUM($B$88*V88)+SUM($B$89*V89)+SUM($B$90*V90)+SUM($B$91*V91)+SUM($B$92*V92)+SUM(B21*V21)+SUM(B35*V35)+SUM(B37*V37)+SUM(B38*V38)+SUM(B71*V71)+B59*V59+B50*V50+B34*V34","v":0},{"$f":"SUM(W7*$B$7)+SUM(W9*$B$9)+SUM(W10*$B$10)+SUM(W15*$B$15)+SUM(W16*$B$16)+SUM(W17*$B$17)+SUM(W18*$B$18)+SUM(W19*$B$19)+SUM(W22*$B$22)+SUM(W23*$B$23)+SUM(W24*$B$24)+SUM(W25*$B$25)+SUM(W26*$B$26)+SUM(W27*$B$27)+SUM(W28*$B$28)+SUM(W30*$B$30)+SUM(W31*$B$31)+SUM(W32*$B$32)+SUM(W33*$B$33)+SUM(W39*$B$39)+SUM(W40*$B$40)+SUM(W41*$B$41)+SUM(W42*$B$42)+SUM(W43*$B$43)+SUM(W44*$B$44)+SUM(W45*$B$45)+SUM(W49*$B$49)+SUM(W51*$B$51)+SUM(W53*$B$53)+SUM(W54*$B$54)+SUM(W55*$B$55)+SUM(W56*$B$56)+SUM(W57*$B$57)+SUM(W60*$B$60)+SUM(W62*$B$62)+SUM(W63*$B$63)+SUM(W66*$B$66)+SUM(W67*$B$67)+SUM(W68*$B$68)+SUM(W69*$B$69)++SUM(W74*$B$74)+SUM(W64*$B$64)+SUM(W65*$B$65)+SUM(W11*$B$11)+SUM(W12*$B$12)+SUM(W13*$B$13)+SUM(W14*$B$14)+SUM(W58*$B$58)+SUM(W48*$B$48)+SUM(W73*$B$73)+SUM(W72*$B$72)+SUM($B$46*W46)+SUM($B$47*W47)+SUM($B$75*W75)+SUM($B$78*W78)+SUM($B$79*W79)+SUM($B$80*W80)+SUM($B$81*W81)+SUM($B$82*W82)+SUM($B$83*W83)+SUM($B$84*W84)+SUM($B$85*W85)+SUM($B$86*W86)+SUM($B$87*W87)+SUM($B$88*W88)+SUM($B$89*W89)+SUM($B$90*W90)+SUM($B$91*W91)+SUM($B$92*W92)+SUM(B21*W21)+SUM(B35*W35)+SUM(B37*W37)+SUM(B38*W38)+SUM(B71*W71)+B59*W59+B50*W50+B34*W34","v":0},{"$f":"SUM(X7:X75,X78:X92)","v":0},{"$f":"SUM(Y7:Y75,Y78:Y92)","v":0},{"$f":"SUM(Z7,Z22:Z28,Z30:Z35,Z39:Z51,Z53:Z60,Z62:Z69,Z73:Z74,Z78:Z92)","v":0},{"$f":"SUM(AA7,AA22:AA28,AA30:AA35,AA39:AA51,AA53:AA60,AA62:AA69,AA73:AA74,AA78:AA92)","v":0},{"$f":"SUM(AB7,AB22:AB28,AB30:AB35,AB39:AB51,AB53:AB60,AB62:AB69,AB73:AB74,AB78:AB92)","v":0},{"$f":"SUM(AC7,AC22:AC28,AC30:AC35,AC39:AC51,AC53:AC60,AC62:AC69,AC73:AC74,AC78:AC92,AC78:AC92)","v":0},{"$f":"SUM(AD7,AD22:AD28,AD30:AD35,AD39:AD51,AD53:AD60,AD62:AD69,AD73:AD74,AD78:AD92)","v":0},{"$f":"SUM(AE7,AE22:AE28,AE30:AE35,AE39:AE51,AE53:AE60,AE62:AE69,AE73:AE74,AE78:AE92)","v":0},{"$f":"SUM(AF7,AF22:AF28,AF30:AF35,AF39:AF51,AF53:AF60,AF62:AF69,AF73:AF74,AF78:AF92)","v":0},{"$f":"SUM(AG7,AG22:AG28,AG30:AG35,AG39:AG51,AG53:AG60,AG62:AG69,AG72:AG75,AG78:AG92)","v":0}]
[]
["XS","шт",null,"XS","S","M","L","XL","XXL","GIGA","кг","руб",{"$nulls":11},"кг","руб","40мм","50мм","60мм","70мм","80мм","90мм","100мм","120мм","Код"]
["New Beads",30,null,30,{"$nulls":6},2.3,1870,{"$nulls":11},{"$f":"K7*(M7+N7+O7+P7+Q7+R7+S7+T7+U7+V7+W7)","v":0},{"$f":"L7*(M7+N7+O7+P7+R7+S7+Q7+T7+U7)+V7*(L7*110%)+W7*(L7*110%)","v":0},{"$f":"SUM(M7:W7)*30","v":0},{"$nulls":7},"00-00000050"]
["Sqrew/XS",null,null,"XS","S","M","L","XL","XXL","GIGA"]
["Bark-Screw II ",23,null,17,6,{"$nulls":5},2,2210,{"$nulls":11},{"$f":"K9*(M9+N9+O9+P9+Q9+R9+S9+T9+U9+V9+W9)","v":0},{"$f":"L9*(M9+N9+O9+P9+R9+S9+Q9+T9+U9)+V9*(L9*110%)+W9*(L9*110%)","v":0},"КРЕПЯТСЯ НА ШУРУПЫ",{"$nulls":7},"00-00000628"]
["Duplex I PU     NEW! 2022",11,null,null,11,{"$nulls":5},0.3,2150,{"$nulls":11},{"$f":"K10*(M10+N10+O10+P10+Q10+R10+S10+T10+U10+V10+W10)","v":0},{"$f":"L10*(M10+N10+O10+P10+R10+S10+Q10+T10+U10)+V10*(L10*110%)+W10*(L10*110%)","v":0},{"$nulls":8},"00-00000799"]
["Duplex II PU     NEW! 2022",10,null,null,10,{"$nulls":5},0.4,2150,{"$nulls":11},{"$f":"K11*(M11+N11+O11+P11+Q11+R11+S11+T11+U11+V11+W11)","v":0},{"$f":"L11*(M11+N11+O11+P11+R11+S11+Q11+T11+U11)+V11*(L11*110%)+W11*(L11*110%)","v":0},{"$nulls":8},"00-00000800"]
["Duplex III PU     NEW! 2022",13,null,3,10,{"$nulls":5},0.2,2150,{"$nulls":11},{"$f":"K12*(M12+N12+O12+P12+Q12+R12+S12+T12+U12+V12+W12)","v":0},0,{"$nulls":8},"00-00000801"]
["Duplex IV PU     NEW! 2022",9,null,9,{"$nulls":6},0.2,2150,{"$nulls":11},0,0,{"$nulls":8},"00-00000802"]
["Duplex V PU     NEW! 2022",9,null,9,{"$nulls":6},0.2,2150,{"$nulls":11},0,0,{"$nulls":8},"00-00000803"]
["Spots PU",11,null,11,{"$nulls":6},0.6,2150,{"$nulls":11},0,0,{"$nulls":8},"00-00000216"]
["Spots II PU",15,null,15,{"$nulls":6},0.3,1540,{"$nulls":11},0,0,{"$nulls":8},"00-00000611"]
["G12 PU  ",12,null,12,{"$nulls":6},1,3190,{"$nulls":11},{"$f":"K17*(M17+N17+O17+P17+Q17+R17+S17+T17+U17+V17+W17)","v":0},0,{"$nulls":8},"00-00000750"]
["Geometric Screw PU",12,null,12,{"$nulls":6},0.3,1320,{"$nulls":11},0,0,{"$nulls":8},"00-00000225"]
["Granite Screw PU",10,null,10,{"$nulls":6},0.2,1320,{"$nulls":11},0,{"$f":"L19*(M19+N19+O19+P19+R19+S19+Q19+T19+U19)+V19*(L19*110%)+W19*(L19*110%)","v":0},{"$nulls":8},"00-00000224"]
["S","шт",null,"XS","S","M","L","XL","XXL","GIGA",{"$nulls":15},"40мм","50мм","60мм","70мм","80мм","90мм","100мм","120мм"]
["Edges",15,{"$nulls":3},15,{"$nulls":4},2.4,2340,{"$nulls":11},{"$f":"K21*(M21+N21+O21+P21+Q21+R21+S21+T21+U21+V21+W21)","v":0},{"$f":"L21*(M21+N21+O21+P21+R21+S21+Q21+T21+U21)+V21*(L21*110%)+W21*(L21*110%)","v":0},{"$f":"SUM(M21:W21)*15","v":0},{"$nulls":7},"00-00000266"]
["Shark I",10,{"$nulls":3},10,{"$nulls":4},1.75,1400,{"$nulls":11},0,0,{"$f":"SUM(M22:W22)*10","v":0},{"$nulls":7},"00-00000057"]
["No fear",20,null,null,10,10,{"$nulls":4},3.2,2400,{"$nulls":11},0,0,{"$f":"SUM(M23:W23)*20","v":0},{"$nulls":7},"00-00000059"]
["Stone",15,{"$nulls":3},15,{"$nulls":4},3.3,2530,{"$nulls":11},0,0,{"$f":"SUM(M24:W24)*11","v":0},null,{"$f":"SUM(M24:W24)*4","v":0},{"$nulls":5},"00-00000045"]
["Universal",15,null,1,6,8,{"$nulls":4},3,2400,{"$nulls":11},0,0,{"$f":"SUM(M25:W25)*10","v":0},null,{"$f":"SUM(M25:W25)*5","v":0},{"$nulls":5},"00-00000043"]
["Metamorphic",15,null,null,5,10,{"$nulls":4},3.7,2740,{"$nulls":11},0,0,{"$f":"SUM(M26:W26)*10","v":0},null,{"$f":"SUM(M26:W26)*5","v":0},{"$nulls":5},"00-00000046"]
["Metamorphic II",12,{"$nulls":3},12,{"$nulls":4},4.1,2810,{"$nulls":11},0,0,{"$f":"SUM(M27:W27)*3","v":0},null,{"$f":"SUM(M27:W27)*9","v":0},{"$nulls":5},"00-00000047"]
["Skin Killer",14,null,null,4,7,3,{"$nulls":3},3.3,2530,{"$nulls":11},0,0,{"$f":"SUM(M28:W28)*14","v":0}]
["M","шт",null,"XS","S","M","L","XL","XXL","GIGA",{"$nulls":15},"40мм","50мм","60мм","70мм","80мм","90мм","100мм","120мм","00-00000060"]
["Static",12,{"$nulls":3},12,{"$nulls":4},4.1,3270,{"$nulls":11},0,{"$f":"L30*(M30+N30+O30+P30+R30+S30+Q30+T30+U30)+V30*(L30*110%)+W30*(L30*110%)","v":0},{"$f":"SUM(M30:W30)*8","v":0},null,{"$f":"SUM(M30:W30)*4","v":0},{"$nulls":5},"00-00000061"]
["X-Power",12,null,null,1,10,1,{"$nulls":3},4.7,3270,{"$nulls":11},0,{"$f":"L31*(M31+N31+O31+P31+R31+S31+Q31+T31+U31)+V31*(L31*110%)+W31*(L31*110%)","v":0},{"$f":"SUM(M31:W31)*9","v":0},null,{"$f":"SUM(M31:W31)*3","v":0},{"$nulls":5},"00-00000042"]
["Handle",10,{"$nulls":3},10,{"$nulls":4},4.4,3070,{"$nulls":11},0,0,{"$f":"SUM(M32:W32)*6","v":0},null,{"$f":"SUM(M32:W32)*4","v":0},{"$nulls":5},"00-00000041"]
["Sea Life",8,{"$nulls":3},8,{"$nulls":4},3.7,3070,{"$nulls":11},0,0,null,null,{"$f":"SUM(M33:W33)*8","v":0},{"$nulls":5},"00-00000291"]
["Up",6,{"$nulls":3},6,{"$nulls":4},2.4,1940,{"$nulls":11},0,0,{"$f":"SUM(M34:W34)*4","v":0},null,{"$f":"SUM(M34:W34)*2","v":0}]
[{"$nulls":33},"00-00000071"]
["L","шт",null,"XS","S","M","L","XL","XXL","GIGA",{"$nulls":15},"40мм","50мм","60мм","70мм","80мм","90мм","100мм","120мм","00-00000067"]
["Flakes",8,{"$nulls":3},5,3,{"$nulls":3},6.8,3940,{"$nulls":11},{"$f":"K37*(M37+N37+O37+P37+Q37+R37+S37+T37+U37+V37+W37)","v":0},{"$f":"L37*(M37+N37+O37+P37+R37+S37+Q37+T37+U37)+V37*(L37*110%)+W37*(L37*110%)","v":0},{"$f":"SUM(M37:W37)*2","v":0},null,{"$f":"SUM(M37:W37)*6","v":0},{"$nulls":5},"00-00000558"]
["Classic",8,{"$nulls":3},6,2,{"$nulls":3},4.3,2800,{"$nulls":11},{"$f":"K38*(M38+N38+O38+P38+Q38+R38+S38+T38+U38+V38+W38)","v":0},{"$f":"L38*(M38+N38+O38+P38+R38+S38+Q38+T38+U38)+V38*(L38*110%)+W38*(L38*110%)","v":0},{"$f":"SUM(M38:W38)*3","v":0},null,{"$f":"SUM(M38:W38)*5","v":0},{"$nulls":5},"00-00000053"]
["Shark II",7,{"$nulls":3},1,4,2,null,null,5.5,3600,{"$nulls":11},{"$f":"K39*(M39+N39+O39+P39+Q39+R39+S39+T39+U39+V39+W39)","v":0},{"$f":"L39*(M39+N39+O39+P39+R39+S39+Q39+T39+U39)+V39*(L39*110%)+W39*(L39*110%)","v":0},{"$f":"SUM(M39:W39)*2","v":0},null,{"$f":"SUM(M39:W39)*5","v":0},{"$nulls":5},"00-00000049"]
["Lever ",5,{"$nulls":3},5,{"$nulls":4},3.8,2400,{"$nulls":11},0,0,null,null,{"$f":"SUM(M40:W40)*5","v":0},{"$nulls":5},"00-00000040"]
["Hexagon ",5,{"$nulls":4},3,2,null,null,3.73,2340,{"$nulls":11},0,0,{"$f":"SUM(M41:W41)*1","v":0},null,{"$f":"SUM(M41:W41)*4","v":0},{"$nulls":5},"00-00000862"]
["Roof",5,{"$nulls":3},3,2,{"$nulls":3},3.9,2610,{"$nulls":11},0,0,{"$f":"SUM(M42:W42)*2","v":0},null,{"$f":"SUM(M42:W42)*3","v":0},{"$nulls":5},"00-00001349"]
["Dront",5,{"$nulls":4},4,1,null,null,3.4,2080,{"$nulls":11},0,0,{"$f":"SUM(M43:W43)*3","v":0},null,{"$f":"SUM(M43:W43)*2","v":0},{"$nulls":5},"00-00001355"]
["Ceuse III",6,{"$nulls":3},2,4,{"$nulls":3},3.3,2130,{"$nulls":11},0,0,{"$f":"SUM(M44:W44)*6","v":0},{"$nulls":7},"00-00000823"]
["Ceuse IV ",4,{"$nulls":5},4,null,null,3.95,2700,{"$nulls":11},0,0,{"$f":"SUM(M45:W45)*2","v":0},null,{"$f":"SUM(M45:W45)*2","v":0},{"$nulls":5},"00-00000600"]
["Kuturchin III PU",4,{"$nulls":4},1,3,null,null,2.19,5150,{"$nulls":11},{"$f":"K46*(M46+N46+O46+P46+Q46+R46+S46+T46+U46+V46+W46)","v":0},{"$f":"L46*(M46+N46+O46+P46+R46+S46+Q46+T46+U46)+V46*(L46*110%)+W46*(L46*110%)","v":0},null,null,{"$f":"SUM(M46:W46)*1","v":0},null,{"$f":"SUM(M46:W46)*3","v":0},{"$nulls":3},"00-00000573"]
["Teeth PU",7,{"$nulls":4},5,2,null,null,3.7,6360,{"$nulls":11},{"$f":"K47*(M47+N47+O47+P47+Q47+R47+S47+T47+U47+V47+W47)","v":0},{"$f":"L47*(M47+N47+O47+P47+R47+S47+Q47+T47+U47)+V47*(L47*110%)+W47*(L47*110%)","v":0}]
["Groov      ",9,{"$nulls":4},6,3,null,null,10.7,4460,{"$nulls":11},0,0,{"$f":"SUM(M48:W48)*5","v":0},null,{"$f":"SUM(M48:W48)*4","v":0},{"$nulls":5},"00-00000078"]
["Kuturchin II ",6,{"$nulls":4},4,2,null,null,6.8,3940,{"$nulls":11},0,0,{"$nulls":4},{"$f":"SUM(M49:W49)*1","v":0},null,{"$f":"SUM(M49:W49)*5","v":0},null,"00-00000039"]
["Kuturchin I ",5,{"$nulls":4},4,1,null,null,4.7,2870,{"$nulls":11},{"$f":"K50*(M50+N50+O50+P50+Q50+R50+S50+T50+U50+V50+W50)","v":0},{"$f":"L50*(M50+N50+O50+P50+R50+S50+Q50+T50+U50)+V50*(L50*110%)+W50*(L50*110%)","v":0},{"$f":"SUM(M50:W50)*1","v":0},null,{"$f":"SUM(M50:W50)*2","v":0},null,{"$f":"SUM(M50:W50)*2","v":0},{"$nulls":3},"00-00000073"]
["Pockets ",12,{"$nulls":4},7,1,4,null,4.9,7600,{"$nulls":11},{"$f":"K51*(M51+N51+O51+P51+Q51+R51+S51+T51+U51+V51+W51)","v":0},{"$f":"L51*(M51+N51+O51+P51+R51+S51+Q51+T51+U51)+V51*(L51*110%)+W51*(L51*110%)","v":0},{"$f":"SUM(M51:W51)*5","v":0},null,{"$f":"SUM(M51:W51)*5","v":0},null,{"$f":"SUM(M51:W51)*2","v":0},{"$nulls":3},"00-00000637"]
["XL","шт",null,"XS","S","M","L","XL","XXL","GIGA",{"$nulls":15},"40мм","50мм","60мм","70мм","80мм","90мм","100мм","120мм","00-00000746"]
["Ceuse I",6,{"$nulls":4},5,1,null,null,4.3,2810,{"$nulls":11},0,0,{"$f":"SUM(M53:W53)*5","v":0},null,{"$f":"SUM(M53:W53)*1","v":0},{"$nulls":5},"00-00000813"]
["Ceuse II",4,{"$nulls":4},2,2,null,null,4.2,2530,{"$nulls":11},0,0,null,null,{"$f":"SUM(M54:W54)*4","v":0},{"$nulls":5},"00-00000346"]
["Muffins",3,{"$nulls":4},1,2,null,null,3.6,1580,{"$nulls":11},0,0," ",null,{"$f":"SUM(M55:W55)*1","v":0},null,{"$f":"SUM(M55:W55)*2","v":0}]
["Dеja Vu           ",5,{"$nulls":4},2,3,null,null,5.86,3450,{"$nulls":11},{"$f":"K56*(M56+N56+O56+P56+Q56+R56+S56+T56+U56+V56+W56)","v":0},0,null,null,{"$f":"SUM(M56:W56)*2","v":0},null,{"$f":"SUM(M56:W56)*3","v":0},{"$nulls":3},"00-00000571"]
["Slides               ",8,{"$nulls":3},2,6,{"$nulls":3},8,4420,{"$nulls":11},0,0,null,null,{"$f":"SUM(M57:W57)*4","v":0},null,{"$f":"SUM(M57:W57)*4","v":0},{"$nulls":3},"00-00000578"]
["Grand Parete PU ",5,{"$nulls":5},3,1,1,2.1,6260,{"$nulls":11},0,0,{"$f":"SUM(M58:W58)*4","v":0},{"$nulls":7},"00-00000682"]
["Soft Jugs",5,{"$nulls":4},5,{"$nulls":3},6.4,3670,{"$nulls":11},0,{"$f":"L59*(M59+N59+O59+P59+R59+S59+Q59+T59+U59)+V59*(L59*110%)+W59*(L59*110%)","v":0},null,null,{"$f":"SUM(M59:W59)*5","v":0},{"$nulls":5},"00-00000752"]
["Flat Holes PU",9,{"$nulls":4},3,3,3,null,4.7,9300,{"$nulls":11},0,0,{"$nulls":8},"00-00000048"]
["XXL","шт",null,"XS","S","M","L","XL","XXL","GIGA",{"$nulls":15},"40мм","50мм","60мм","70мм","80мм","90мм","100мм","120мм","00-00000293"]
["Baton PU ",5,{"$nulls":6},5,null,2.7,6380,{"$nulls":11},0,0,{"$nulls":4},{"$f":"SUM(M62:W62)*3","v":0},null,{"$f":"SUM(M62:W62)*2","v":0},null,"00-00000378"]
["Virus PU  ",5,{"$nulls":6},2,3,5.1,15240,{"$nulls":11},{"$f":"K63*(M63+N63+O63+P63+Q63+R63+S63+T63+U63+V63+W63)","v":0},0,{"$nulls":4},{"$f":"SUM(M63:W63)*3","v":0},null,{"$f":"SUM(M63:W63)*1","v":0},{"$f":"SUM(M63:W63)*1","v":0},"00-00000379"]
["Joker PU ",8,{"$nulls":6},5,3,6.6,18260,{"$nulls":11},0,0,null,null,{"$f":"SUM(M64:W64)*2","v":0},null,{"$f":"SUM(M64:W64)*2","v":0},null,{"$f":"SUM(M64:W64)*2","v":0}]
["Tomahawks PU      NEW! 2022",6,{"$nulls":6},3,3,5.4,15180,{"$nulls":11},0,0,null,null,{"$f":"SUM(M65:W65)*2","v":0},null,{"$f":"SUM(M65:W65)*3","v":0},null,null,{"$f":"SUM(M65:W65)*1","v":0},"00-00001348"]
["Dront XXL",3,{"$nulls":5},3,null,null,4,2270,{"$nulls":11},0,0,{"$nulls":4},{"$f":"SUM(M66:W66)*2","v":0},null,{"$f":"SUM(M66:W66)*1","v":0},null,"00-00000825"]
["Free Fall",3,{"$nulls":5},3,null,null,3.5,2080,{"$nulls":11},0,0,{"$f":"SUM(M67:W67)*1","v":0},null,{"$f":"SUM(M67:W67)*2","v":0},{"$nulls":5},"00-00000279"]
["Boss I",3,{"$nulls":4},1,2,null,null,5.1,2810,{"$nulls":11},0,0,{"$nulls":4},{"$f":"SUM(M68:W68)*2","v":0},null,{"$f":"SUM(M68:W68)*1","v":0},null,"00-00001675"]
["Boss II",3,{"$nulls":5},2,1,null,5,2660,{"$nulls":11},0,0,{"$nulls":4},{"$f":"SUM(M69:W69)*2","v":0},null,{"$f":"SUM(M69:W69)*1","v":0}]
["GIGA","шт",null,"XS","S","M","L","XL","XXL","GIGA",{"$nulls":15},"40мм","50мм","60мм","70мм","80мм","90мм","100мм","120мм"]
["Pelicans PU",2,{"$nulls":7},2,1.85,3520,{"$nulls":11},{"$f":"K71*(M71+N71+O71+P71+Q71+R71+S71+T71+U71+V71+W71)","v":0},{"$f":"L71*(M71+N71+O71+P71+R71+S71+Q71+T71+U71)+V71*(L71*110%)+W71*(L71*110%)","v":0},{"$nulls":8},"00-00001624"]
["Grab PU",12,{"$nulls":5},5,4,3,11.75,28800,{"$nulls":11},{"$f":"K72*(M72+N72+O72+P72+Q72+R72+S72+T72+U72+V72+W72)","v":0},{"$f":"L72*(M72+N72+O72+P72+R72+S72+Q72+T72+U72)+V72*(L72*110%)+W72*(L72*110%)","v":0},{"$nulls":8},"00-00001621"]
["Shell PU                ",3,{"$nulls":7},3,3.35,5830,{"$nulls":11},{"$f":"K73*(M73+N73+O73+P73+Q73+R73+S73+T73+U73+V73+W73)","v":0},{"$f":"L73*(M73+N73+O73+P73+R73+S73+Q73+T73+U73)+V73*(L73*110%)+W73*(L73*110%)","v":0},{"$nulls":8},"00-00001620"]
["Hexagon Giant PU ",3,{"$nulls":7},3,3,6550,{"$nulls":11},0,0,{"$nulls":4},{"$f":"SUM(M74:W74)*1","v":0},null,{"$f":"SUM(M74:W74)*2","v":0},null,"00-00001623"]
["Hexagon Giant II PU ",2,{"$nulls":7},2,1.98,4460,{"$nulls":11},{"$f":"K75*(M75+N75+O75+P75+Q75+R75+S75+T75+U75+V75+W75)","v":0},{"$f":"L75*(M75+N75+O75+P75+R75+S75+Q75+T75+U75)+V75*(L75*110%)+W75*(L75*110%)","v":0},{"$nulls":7},{"$f":"SUM(M75:W75)*2","v":0},"00-00001622"]
["LAST CALL FAMILY",{"$nulls":32},"00-00001626"]
[null,"шт",null,"XS","S","M","L","XL","XXL","GIGA",{"$nulls":15},"40мм","50мм","60мм","70мм","80мм","90мм","100мм","120мм","00-00001687"]
["Last Call 01.01 PU",12,null,2,10,{"$nulls":5},0.25,2423,{"$nulls":11},{"$f":"K78*(M78+N78+O78+P78+Q78+R78+S78+T78+U78+V78+W78)","v":0},{"$f":"L78*(M78+N78+O78+P78+R78+S78+Q78+T78+U78)+V78*(L78*110%)+W78*(L78*110%)","v":0},{"$nulls":8},"00-00001625"]
["Last Call 01.02 PU",8,null,null,3,5,{"$nulls":4},0.73,2700,{"$nulls":11},0,0,{"$nulls":8},"00-00001688"]
["Last Call 01.03 PU",8,{"$nulls":3},8,{"$nulls":4},0.58,2450,{"$nulls":11},0,0,{"$nulls":8},"00-00001689"]
["Last Call 01.04 PU",5,{"$nulls":4},5,{"$nulls":3},0.34,1950,{"$nulls":11},0,0,{"$nulls":8},"00-00001690"]
["Last Call 01.05 PU",5,null,null,2,3,{"$nulls":4},0.85,2750,{"$nulls":11},0,0,{"$nulls":8},"00-00001691"]
["Last Call 01.06 PU",5,{"$nulls":4},5,{"$nulls":3},0.96,3100,{"$nulls":11},0,0,{"$f":"SUM(M83:W83)*5","v":0},{"$nulls":7},"00-00001692"]
["Last Call 01.07 PU",6,{"$nulls":4},5,1,null,null,1.2,3950,{"$nulls":11},0,0,null,null,{"$f":"SUM(M84:W84)*6","v":0},{"$nulls":5},"00-00001693"]
["Last Call 01.08 PU",4,{"$nulls":4},3,1,null,null,1.5,4150,{"$nulls":11},0,0,{"$nulls":4},{"$f":"SUM(M85:W85)*4","v":0},{"$nulls":3},"00-00001694"]
["Last Call 01.09 PU",5,{"$nulls":5},4,1,null,2.1,6100,{"$nulls":11},0,0,null,null,{"$f":"SUM(M86:W86)*5","v":0}]
["Last Call 01.10 PU",5,{"$nulls":4},2,1,2,null,2.4,5900,{"$nulls":11},0,0,null,null,{"$f":"SUM(M87:W87)*3","v":0},null,{"$f":"SUM(M87:W87)*2","v":0}]
["Last Call 01.11 PU",5,{"$nulls":4},1,4,null,null,2.7,5900,{"$nulls":11},0,0,null,null,{"$f":"SUM(M88:W88)*5","v":0}]
["Last Call 01.12 PU",3,{"$nulls":6},3,null,2.3,6950,{"$nulls":11},0,0,{"$nulls":4},{"$f":"SUM(M89:W89)*3","v":0}]
["Last Call 01.13 PU",3,{"$nulls":6},2,1,2.8,7100,{"$nulls":11},0,0,{"$nulls":4},{"$f":"SUM(M90:W90)*3","v":0}]
["Last Call 01.14 PU",3,{"$nulls":7},3,3.1,7300,{"$nulls":11},0,0,{"$nulls":4},{"$f":"SUM(M91:W91)*3","v":0}]
["Last Call 01.15 PU",3,{"$nulls":7},3,3.4,7200,{"$nulls":11},0,0,{"$nulls":6},{"$f":"SUM(M92:W92)*3","v":0}]

{"sheet":"Лист2","index":2,"n_rows":4,"n_cols":33,"rows_kept":4,"hidden":true,"merged":[[0,0,3,0],[0,1,3,1],[0,2,3,2],[0,3,1,9],[0,10,1,10],[0,11,1,11],[0,12,0,22],[0,23,1,23],[0,24,1,24],[0,25,1,32],[2,10,2,11],[3,10,3,11]]}
["Название комплекта/Размерные Группы","Количество зацепов в комплекте","Изображение ","   Размеры зацепов в комплекте, шт",{"$nulls":6},"Вес комплекта","Цена комплекта","Выберите количество комплектов по цвету",{"$nulls":10},"Общий вес","Общая стоимость","Длина необходимых болтов для заказанных комплектов, шт."]
[{"$nulls":12},"Любой цвет","3028 RAL","5015 RAL","1018 RAL","6037 RAL","9016 RAL","9005 RAL","2003 RAL","4008 RAL","Зеленый флюр +10%","Розовый флюр +10%"]
[{"$nulls":3},"XS","S","M","L","XL","XXL","GIGA","Общее кол-во:",null,"шт.","шт.","шт.","шт.","шт.","шт.","шт.","шт.","шт.","шт.","шт.","кг","руб.","шт.","шт.","шт.","шт.","шт.","шт.","шт.","шт."]
[{"$nulls":3},{"$f":"D6*SUM(M6:W6)+D8*SUM(M8:W8)+D9*SUM(M9:W9)+D10*SUM(M10:W10)+D11*SUM(M11:W11)+D12*SUM(M12:W12)+D13*SUM(M13:W13)+D14*SUM(M14:W14)+D15*SUM(M15:W15)+D16*SUM(M16:W16)+D17*SUM(M17:W17)+D18*SUM(M18:W18)+D21*SUM(M21:W21)+D23*SUM(M23:W23)+D26*SUM(M26:W26)","v":0},{"$f":"+E8*SUM(M8:W8)+E20*SUM(M20:W20)+E21*SUM(M21:W21)+E22*SUM(M22:W22)+E23*SUM(M23:W23)+E24*SUM(M24:W24)+E25*SUM(M25:W25)+E26*SUM(M26:W26)+E29*SUM(M29:W29)+E34*SUM(M34:W34)","v":0},{"$f":"F24*SUM(M24:W24)+F25*SUM(M25:W25)+F26*SUM(M26:W26)+F28*SUM(M28:W28)+F29*SUM(M29:W29)+F30*SUM(M30:W30)+F31*SUM(M31:W31)+F32*SUM(M32:W32)+F34*SUM(M34:W34)+F35*SUM(M35:W35)+F42*SUM(M42:W42)","v":0},{"$f":"G26*SUM(M26:W26)+G29*SUM(M29:W29)+G30*SUM(M30:W30)+G31*SUM(M31:W31)+G34*SUM(M34:W34)+G35*SUM(M35:W35)+G36*SUM(M36:W36)+G37*SUM(M37:W37)+G38*SUM(M38:W38)+G39*SUM(M39:W39)+G40*SUM(M40:W40)+G42*SUM(M42:W42)+G43*SUM(M43:W43)+G45*SUM(M45:W45)+G46*SUM(M46:W46)+G47*SUM(M47:W47)+G48*SUM(M48:W48)+G49*SUM(M49:W49)+G41*SUM(M41:W41)","v":0},{"$f":"H51*SUM(M51:W51)+H47*SUM(M47:W47)+H46*SUM(M46:W46)+H45*SUM(M45:W45)+H43*SUM(M43:W43)+H38*SUM(M38:W38)+H36*SUM(M36:W36)+H34*SUM(M34:W34)+H42*SUM(M42:W42)+H48*SUM(M48:W48)+H49*SUM(M49:W49)+H50*SUM(M50:W50)+H41*SUM(M41:W41)","v":0},{"$f":"I53*SUM(M53:W53)+I57*SUM(M57:W57)+I58*SUM(M58:W58)+I59*SUM(M59:W59)+I60*SUM(M60:W60)+I55*SUM(M55:W55)+I54*SUM(M54:W54)+I56*SUM(M56:W56)+I50*SUM(M50:W50)","v":0},{"$f":"J63*SUM(M63:W63)+J55*SUM(M55:W55)+J54*SUM(M54:W54)+J56*SUM(M56:W56)+J62*SUM(M62:W62)","v":0},{"$f":"SUM(D4:J4)","v":0},null,{"$f":"SUM(M6*$B$10)+SUM(M8*$B$12)+SUM(M9*$B$13)+SUM(M14*$B$18)+SUM(M15*$B$19)+SUM(M16*$B$20)+SUM(M17*$B$21)+SUM(M18*$B$22)+SUM(M20*$B$24)+SUM(M21*$B$25)+SUM(M22*$B$26)+SUM(M23*$B$27)+SUM(M24*$B$28)+SUM(M25*$B$29)+SUM(M26*$B$30)+SUM(M28*$B$32)+SUM(M29*$B$33)+SUM(M30*$B$34)+SUM(M31*$B$35)+SUM(M32*$B$36)++SUM(M34*$B$38)+SUM(M35*$B$39)+SUM(M36*$B$40)+SUM(M37*$B$41)+SUM(M38*$B$42)+SUM(M39*$B$43)+SUM(M40*$B$44)+SUM(M42*$B$46)+SUM(M43*$B$47)+SUM(M45*$B$49)+SUM(M46*$B$50)+SUM(M47*$B$51)+SUM(M48*$B$52)+SUM(M49*$B$53)+SUM(M51*$B$55)+SUM(M53*$B$57)+SUM(M54*$B$58)+SUM(M57*$B$61)+SUM(M58*$B$62)+SUM(M59*$B$63)+SUM(M60*$B$64)++SUM(M63*$B$67)+SUM(M55*$B$59)+SUM(M56*$B$60)+SUM(M10*$B$14)+SUM(M11*$B$15)+SUM(M12*$B$16)+SUM(M13*$B$17)+SUM(M50*$B$54)+SUM(M41*$B$45)+SUM(M62*$B$66)","v":0},{"$f":"SUM(N6*$B$10)+SUM(N8*$B$12)+SUM(N9*$B$13)+SUM(N14*$B$18)+SUM(N15*$B$19)+SUM(N16*$B$20)+SUM(N17*$B$21)+SUM(N18*$B$22)+SUM(N20*$B$24)+SUM(N21*$B$25)+SUM(N22*$B$26)+SUM(N23*$B$27)+SUM(N24*$B$28)+SUM(N25*$B$29)+SUM(N26*$B$30)+SUM(N28*$B$32)+SUM(N29*$B$33)+SUM(N30*$B$34)+SUM(N31*$B$35)+SUM(N32*$B$36)++SUM(N34*$B$38)+SUM(N35*$B$39)+SUM(N36*$B$40)+SUM(N37*$B$41)+SUM(N38*$B$42)+SUM(N39*$B$43)+SUM(N40*$B$44)+SUM(N42*$B$46)+SUM(N43*$B$47)+SUM(N45*$B$49)+SUM(N46*$B$50)+SUM(N47*$B$51)+SUM(N48*$B$52)+SUM(N49*$B$53)+SUM(N51*$B$55)+SUM(N53*$B$57)+SUM(N54*$B$58)+SUM(N57*$B$61)+SUM(N58*$B$62)+SUM(N59*$B$63)+SUM(N60*$B$64)++SUM(N63*$B$67)+SUM(N55*$B$59)+SUM(N56*$B$60)+SUM(N10*$B$14)+SUM(N11*$B$15)+SUM(N12*$B$16)+SUM(N13*$B$17)+SUM(N50*$B$54)+SUM(N41*$B$45)+SUM(N62*$B$66)","v":0},0,0,0,0,0,0,{"$f":"SUM(U6*$B$10)+SUM(U8*$B$12)+SUM(U9*$B$13)+SUM(U14*$B$18)+SUM(U15*$B$19)+SUM(U16*$B$20)+SUM(U17*$B$21)+SUM(U18*$B$22)+SUM(U20*$B$24)+SUM(U21*$B$25)+SUM(U22*$B$26)+SUM(U23*$B$27)+SUM(U24*$B$28)+SUM(U25*$B$29)+SUM(U26*$B$30)+SUM(U28*$B$32)+SUM(U29*$B$33)+SUM(U30*$B$34)+SUM(U31*$B$35)+SUM(U32*$B$36)++SUM(U34*$B$38)+SUM(U35*$B$39)+SUM(U36*$B$40)+SUM(U37*$B$41)+SUM(U38*$B$42)+SUM(U39*$B$43)+SUM(U40*$B$44)+SUM(U42*$B$46)+SUM(U43*$B$47)+SUM(U45*$B$49)+SUM(U46*$B$50)+SUM(U47*$B$51)+SUM(U48*$B$52)+SUM(U49*$B$53)+SUM(U51*$B$55)+SUM(U53*$B$57)+SUM(U54*$B$58)+SUM(U57*$B$61)+SUM(U58*$B$62)+SUM(U59*$B$63)+SUM(U60*$B$64)++SUM(U63*$B$67)+SUM(U55*$B$59)+SUM(U56*$B$60)+SUM(U10*$B$14)+SUM(U11*$B$15)+SUM(U12*$B$16)+SUM(U13*$B$17)+SUM(U50*$B$54)+SUM(U41*$B$45)+SUM(U62*$B$66)","v":0},{"$f":"SUM(V6*$B$10)+SUM(V8*$B$12)+SUM(V9*$B$13)+SUM(V14*$B$18)+SUM(V15*$B$19)+SUM(V16*$B$20)+SUM(V17*$B$21)+SUM(V18*$B$22)+SUM(V20*$B$24)+SUM(V21*$B$25)+SUM(V22*$B$26)+SUM(V23*$B$27)+SUM(V24*$B$28)+SUM(V25*$B$29)+SUM(V26*$B$30)+SUM(V28*$B$32)+SUM(V29*$B$33)+SUM(V30*$B$34)+SUM(V31*$B$35)+SUM(V32*$B$36)++SUM(V34*$B$38)+SUM(V35*$B$39)+SUM(V36*$B$40)+SUM(V37*$B$41)+SUM(V38*$B$42)+SUM(V39*$B$43)+SUM(V40*$B$44)+SUM(V42*$B$46)+SUM(V43*$B$47)+SUM(V45*$B$49)+SUM(V46*$B$50)+SUM(V47*$B$51)+SUM(V48*$B$52)+SUM(V49*$B$53)+SUM(V51*$B$55)+SUM(V53*$B$57)+SUM(V54*$B$58)+SUM(V57*$B$61)+SUM(V58*$B$62)+SUM(V59*$B$63)+SUM(V60*$B$64)++SUM(V63*$B$67)+SUM(V55*$B$59)+SUM(V56*$B$60)+SUM(V10*$B$14)+SUM(V11*$B$15)+SUM(V12*$B$16)+SUM(V13*$B$17)+SUM(V50*$B$54)+SUM(V41*$B$45)+SUM(V62*$B$66)","v":0},{"$f":"SUM(W6*$B$10)+SUM(W8*$B$12)+SUM(W9*$B$13)+SUM(W14*$B$18)+SUM(W15*$B$19)+SUM(W16*$B$20)+SUM(W17*$B$21)+SUM(W18*$B$22)+SUM(W20*$B$24)+SUM(W21*$B$25)+SUM(W22*$B$26)+SUM(W23*$B$27)+SUM(W24*$B$28)+SUM(W25*$B$29)+SUM(W26*$B$30)+SUM(W28*$B$32)+SUM(W29*$B$33)+SUM(W30*$B$34)+SUM(W31*$B$35)+SUM(W32*$B$36)++SUM(W34*$B$38)+SUM(W35*$B$39)+SUM(W36*$B$40)+SUM(W37*$B$41)+SUM(W38*$B$42)+SUM(W39*$B$43)+SUM(W40*$B$44)+SUM(W42*$B$46)+SUM(W43*$B$47)+SUM(W45*$B$49)+SUM(W46*$B$50)+SUM(W47*$B$51)+SUM(W48*$B$52)+SUM(W49*$B$53)+SUM(W51*$B$55)+SUM(W53*$B$57)+SUM(W54*$B$58)+SUM(W57*$B$61)+SUM(W58*$B$62)+SUM(W59*$B$63)+SUM(W60*$B$64)++SUM(W63*$B$67)+SUM(W55*$B$59)+SUM(W56*$B$60)+SUM(W10*$B$14)+SUM(W11*$B$15)+SUM(W12*$B$16)+SUM(W13*$B$17)+SUM(W50*$B$54)+SUM(W41*$B$45)+SUM(W62*$B$66)","v":0},{"$f":"SUM(X6:X63)","v":0},{"$f":"SUM(Y6:Y63)","v":0},{"$f":"SUM(Z6,Z20:Z26,Z28:Z32,Z34:Z43,Z45:Z51,Z53:Z60,Z62:Z63)","v":0},{"$f":"SUM(AA6,AA20:AA26,AA28:AA32,AA34:AA43,AA45:AA51,AA53:AA60,AA62:AA63)","v":0},0,0,0,0,0,0]

{"sheet":"Рельефы","index":3,"n_rows":141,"n_cols":27,"rows_kept":141,"merged":[[0,0,3,0],[0,1,3,1],[0,2,3,2],[0,3,3,3],[0,4,1,9],[0,12,0,22],[0,23,1,23],[0,24,1,24],[0,26,1,26],[1,10,3,10],[1,11,3,11],[4,0,4,26],[5,0,5,26],[6,4,6,9],[7,4,7,9],[8,4,8,9],[9,4,9,9],[10,4,10,9],[11,4,11,9],[12,4,12,9],[13,4,13,9],[14,4,14,9],[15,4,15,9],[16,4,16,9],[17,4,17,9],[18,4,18,9],[19,4,19,9],[20,4,20,9],[21,4,21,9],[22,4,22,9],[23,4,23,9],[24,4,24,9],[25,4,25,9],[26,4,26,9],[27,4,27,9],[28,4,28,9],[29,4,29,9],[30,4,30,9],[31,4,31,9],[32,4,32,9],[33,4,33,9],[34,4,34,9],[35,4,35,9],[36,4,36,9],[37,4,37,9],[38,4,38,9],[39,4,39,9],[40,4,40,9],[41,4,41,9],[42,4,42,9],[43,4,43,9],[44,4,44,9],[45,4,45,9],[46,4,46,9],[47,4,47,9],[48,4,48,9],[49,4,49,9],[50,4,50,9],[51,4,51,9],[52,4,52,9],[53,4,53,9],[54,4,54,9],[55,0,55,26],[56,4,56,9],[57,4,57,9],[58,4,58,9],[59,4,59,9],[60,4,60,9],[61,4,61,9],[62,4,62,9],[63,4,63,9],[64,4,64,9],[65,4,65,9],[66,4,66,9],[67,4,67,9],[68,4,68,9],[69,4,69,9],[70,4,70,9],[71,4,71,9],[72,4,72,9],[73,4,73,9],[74,4,74,9],[75,4,75,9],[76,4,76,9],[77,4,77,9],[78,4,78,9],[79,4,79,9],[80,4,80,9],[81,4,81,9],[82,0,82,26],[83,4,83,9],[84,4,84,9],[85,4,85,9],[86,4,86,9],[87,4,87,9],[88,4,88,9],[89,4,89,9],[90,4,90,9],[91,4,91,9],[92,4,92,9],[93,4,93,9],[94,4,94,9],[95,4,95,9],[96,4,96,9],[97,4,97,9],[98,4,98,9],[99,4,99,9],[100,4,100,9],[101,4,101,9],[102,4,102,9],[103,4,103,9],[104,4,104,9],[105,4,105,9],[106,4,106,9],[107,4,107,9],[108,4,108,9],[109,4,109,9],[110,0,110,26],[111,4,111,9],[112,4,112,9],[113,4,113,9],[114,4,114,9],[115,4,115,9],[116,4,116,9],[117,4,117,9],[118,4,118,9],[119,4,119,9],[120,0,120,26],[121,4,121,9],[122,4,122,9],[123,4,123,9],[124,4,124,9],[125,4,125,9],[126,4,126,9],[127,4,127,9],[128,4,128,9],[129,4,129,9],[130,4,130,9],[131,4,131,9],[132,4,132,9],[133,4,133,9],[134,4,134,9],[135,4,135,9],[136,4,136,9],[137,4,137,9],[138,4,138,9],[139,4,139,9],[140,4,140,9]]}
["Название рельефа","Размер рельефа","Габариты  рельефа, см","Количество в наборе, шт","Изображение/Количество рельефов по размеру",{"$nulls":5},"Вес набора","Цена рельефа","Выберите количество рельефов по цвету",{"$nulls":10},"Общий вес","Общая стоимость",null,"Общее количество рельефов"]
[{"$nulls":10},"кг","руб","Любой цвет","3028 RAL","5015 RAL","1018 RAL","6037 RAL","9016 RAL","9005 RAL","2003 RAL","4008 RAL","Зеленый флюр +10%","Розовый флюр +10%"]
[{"$nulls":4},"XS","S","M","L","XL","XXL",null,null,"шт.","шт.","шт.","шт.","шт.","шт.","шт.","шт.","шт.","шт.","шт.","кг","руб.",null,"шт."]
[{"$nulls":4},{"$f":"+SUM(M9:W9)+SUM(M34:W34)+SUM(M35:W35)+SUM(M46:W46)+SUM(M49:W49)+SUM(M64:W64)+SUM(M101:W101)+SUM(M112:W112)*2+SUM(M115:W115)*1+SUM(M116:W116)*1+SUM(M50:W50)+SUM(M120:W120)","v":0},{"$f":"+SUM(M11:W11)+SUM(M12:W12)+SUM(M13:W13)+SUM(M14:W14)+SUM(M20:W20)+SUM(M29:W29)+SUM(M30:W30)+SUM(M31:W31)+SUM(M33:W33)+SUM(M36:W36)+SUM(M40:W40)+SUM(M41:W41)+SUM(M42:W42)+SUM(M43:W43)+SUM(M45:W45)+SUM(M51:W51)+SUM(M52:W52)+SUM(M58:W58)+SUM(M65:W65)+SUM(M66:W66)+SUM(M67:W67)+SUM(M68:W68)+SUM(M88:W88)+SUM(M112:W112)*2+SUM(M113:W113)*3+SUM(M114:W114)*4+SUM(M115:W115)*1+SUM(M116:W116)*2+SUM(M102:W102)*7+SUM(M120:W120)*4","v":0},{"$f":"SUM(M7:W7)+SUM(M8:W8)+SUM(M10:W10)+SUM(M15:W15)+SUM(M16:W17)+SUM(M19:W19)+SUM(M21:W21)+SUM(M22:W22)+SUM(M24:W24)+SUM(M25:W25)+SUM(M26:W26)+SUM(M28:W28)+SUM(M47:W47)+SUM(M55:W55)+SUM(M57:W57)+SUM(M61:W61)+SUM(M62:W62)+SUM(M63:W63)+SUM(M69:W69)+SUM(M89:W89)+SUM(M115:W115)*2+SUM(M53:W53)+SUM(M54:W54)+SUM(M112:W112)*2+SUM(M118:W118)+SUM(M119:W119)*3+SUM(M105:W105)*3+SUM(M108:W108)*2+SUM(M122:W127)","v":0},{"$f":"SUM(M115:W115)*1+SUM(M59:W59)+SUM(M60:W60)+SUM(M48:W48)+SUM(M44:W44)+SUM(M39:W39)+SUM(M38:W38)+SUM(M37:W37)+SUM(M32:W32)+SUM(M27:W27)+SUM(M23:W23)+SUM(M18:W18)+SUM(M92:W92)+SUM(M95:W95)+SUM(M103:W103)*5+SUM(M96:W96)+SUM(M81:W81)+SUM(M78:W78)++SUM(M79:W79)+SUM(M118:W118)+SUM(M119:W119)*3+SUM(M82:W82)+SUM(M105:W105)+SUM(M110:W110)*2+SUM(M128:W131,M133:W133)+SUM(M75:W75)+SUM(M104:W104)","v":0},{"$f":"SUM(M98:W98)+SUM(M91:W91)+SUM(M90:W90)+SUM(M87:W87)+SUM(M86:W86)+SUM(M77:W77)+SUM(M76:W76)+SUM(M80:W80)+SUM(M73:W73)+SUM(M117:W117)*3+SUM(M74:W74)+SUM(M108:W108)+SUM(M109:W109)*2+SUM(M132:W132,M134:W134,M135:W137)+SUM(M104:W104)*2","v":0},{"$f":"SUM(M84:W84)+SUM(M85:W85)+SUM(M93:W93)+SUM(M94:W94)+SUM(M97:W97)+SUM(M99:W99)+SUM(M100:W100)+SUM(M70:W70)+SUM(M71:W71)+SUM(M72:W72)+SUM(M106:W106)+SUM(M107:W107)+SUM(M138:W141)","v":0},null,null,{"$f":"SUM(M7:M55)+SUM(M57:M82)+SUM(M84:M101)+SUM(M102)*7+SUM(M103)*5+SUM(M112)*6+SUM(M113)*3+SUM(M114)*4+SUM(M115)*5+SUM(M116)*3+SUM(M120)*5+M117*3+M118*2+M119*6+M105*$D$105+$D$106*M106+$D$107*M107+$D$108*M108+$D$109*M109+$D$110*M110+$D$122*M122+$D$123*M123+$D$124*M124+$D$125*M125+$D$126*M126+$D$127*M127+$D$128*M128+$D$129*M129+$D$130*M130+$D$131*M131+$D$132*M132+$D$133*M133+$D$134*M134+$D$135*M135+$D$136*M136+$D$137*M137+$D$138*M138+$D$139*M139+$D$140*M140+$D$141*M141+D104*M104","v":0},{"$f":"SUM(N7:N55)+SUM(N57:N82)+SUM(N84:N101)+SUM(N102)*7+SUM(N103)*5+SUM(N112)*6+SUM(N113)*3+SUM(N114)*4+SUM(N115)*5+SUM(N116)*3+SUM(N120)*5+N117*3+N118*2+N119*6+N105*$D$105+$D$106*N106+$D$107*N107+$D$108*N108+$D$109*N109+$D$110*N110+$D$122*N122+$D$123*N123+$D$124*N124+$D$125*N125+$D$126*N126+$D$127*N127+$D$128*N128+$D$129*N129+$D$130*N130+$D$131*N131+$D$132*N132+$D$133*N133+$D$134*N134+$D$135*N135+$D$136*N136+$D$137*N137+$D$138*N138+$D$139*N139+$D$140*N140+$D$141*N141+D104*N104","v":0},{"$f":"SUM(O7:O55)+SUM(O57:O82)+SUM(O84:O101)+SUM(O102)*7+SUM(O103)*5+SUM(O112)*6+SUM(O113)*3+SUM(O114)*4+SUM(O115)*5+SUM(O116)*3+SUM(O120)*5+O117*3+O118*2+O119*6+O105*$D$105+$D$106*O106+$D$107*O107+$D$108*O108+$D$109*O109+$D$110*O110+$D$122*O122+$D$123*O123+$D$124*O124+$D$125*O125+$D$126*O126+$D$127*O127+$D$128*O128+$D$129*O129+$D$130*O130+$D$131*O131+$D$132*O132+$D$133*O133+$D$134*O134+$D$135*O135+$D$136*O136+$D$137*O137+$D$138*O138+$D$139*O139+$D$140*O140+$D$141*O141+D104*O104","v":0},{"$f":"SUM(P7:P55)+SUM(P57:P82)+SUM(P84:P101)+SUM(P102)*7+SUM(P103)*5+SUM(P112)*6+SUM(P113)*3+SUM(P114)*4+SUM(P115)*5+SUM(P116)*3+SUM(P120)*5+P117*3+P118*2+P119*6+P105*$D$105+$D$106*P106+$D$107*P107+$D$108*P108+$D$109*P109+$D$110*P110+$D$122*P122+$D$123*P123+$D$124*P124+$D$125*P125+$D$126*P126+$D$127*P127+$D$128*P128+$D$129*P129+$D$130*P130+$D$131*P131+$D$132*P132+$D$133*P133+$D$134*P134+$D$135*P135+$D$136*P136+$D$137*P137+$D$138*P138+$D$139*P139+$D$140*P140+$D$141*P141+D104*P104","v":0},{"$f":"SUM(Q7:Q55)+SUM(Q57:Q82)+SUM(Q84:Q101)+SUM(Q102)*7+SUM(Q103)*5+SUM(Q112)*6+SUM(Q113)*3+SUM(Q114)*4+SUM(Q115)*5+SUM(Q116)*3+SUM(Q120)*5+Q117*3+Q118*2+Q119*6+Q105*$D$105+$D$106*Q106+$D$107*Q107+$D$108*Q108+$D$109*Q109+$D$110*Q110+$D$122*Q122+$D$123*Q123+$D$124*Q124+$D$125*Q125+$D$126*Q126+$D$127*Q127+$D$128*Q128+$D$129*Q129+$D$130*Q130+$D$131*Q131+$D$132*Q132+$D$133*Q133+$D$134*Q134+$D$135*Q135+$D$136*Q136+$D$137*Q137+$D$138*Q138+$D$139*Q139+$D$140*Q140+$D$141*141:141+D104*Q104","v":0},{"$f":"SUM(R7:R55)+SUM(R57:R82)+SUM(R84:R101)+SUM(R102)*7+SUM(R103)*5+SUM(R112)*6+SUM(R113)*3+SUM(R114)*4+SUM(R115)*5+SUM(R116)*3+SUM(R120)*5+R117*3+R118*2+R119*6+R105*$D$105+$D$106*R106+$D$107*R107+$D$108*R108+$D$109*R109+$D$110*R110+$D$122*R122+$D$123*R123+$D$124*R124+$D$125*R125+$D$126*R126+$D$127*R127+$D$128*R128+$D$129*R129+$D$130*R130+$D$131*R131+$D$132*R132+$D$133*R133+$D$134*R134+$D$135*R135+$D$136*R136+$D$137*R137+$D$138*R138+$D$139*R139+$D$140*R140+$D$141*R141+D104*R104","v":0},{"$f":"SUM(S7:S55)+SUM(S57:S82)+SUM(S84:S101)+SUM(S102)*7+SUM(S103)*5+SUM(S112)*6+SUM(S113)*3+SUM(S114)*4+SUM(S115)*5+SUM(S116)*3+SUM(S120)*5+S117*3+S118*2+S119*6+S105*$D$105+$D$106*S106+$D$107*S107+$D$108*S108+$D$109*S109+$D$110*S110+$D$122*S122+$D$123*S123+$D$124*S124+$D$125*S125+$D$126*S126+$D$127*S127+$D$128*S128+$D$129*S129+$D$130*S130+$D$131*S131+$D$132*S132+$D$133*S133+$D$134*S134+$D$135*S135+$D$136*S136+$D$137*S137+$D$138*S138+$D$139*S139+$D$140*S140+$D$141*S141+D104*S104","v":0},{"$f":"SUM(T7:T55)+SUM(T57:T82)+SUM(T84:T101)+SUM(T102)*7+SUM(T103)*5+SUM(T112)*6+SUM(T113)*3+SUM(T114)*4+SUM(T115)*5+SUM(T116)*3+SUM(T120)*5+T117*3+T118*2+T119*6+T105*$D$105+$D$106*T106+$D$107*T107+$D$108*T108+$D$109*T109+$D$110*T110+$D$122*T122+$D$123*T123+$D$124*T124+$D$125*T125+$D$126*T126+$D$127*T127+$D$128*T128+$D$129*T129+$D$130*T130+$D$131*T131+$D$132*T132+$D$133*T133+$D$134*T134+$D$135*T135+$D$136*T136+$D$137*T137+$D$138*T138+$D$139*T139+$D$140*T140+$D$141*T141+D104*T104","v":0},{"$f":"SUM(U7:U55)+SUM(U57:U82)+SUM(U84:U101)+SUM(U102)*7+SUM(U103)*5+SUM(U112)*6+SUM(U113)*3+SUM(U114)*4+SUM(U115)*5+SUM(U116)*3+SUM(U120)*5+U117*3+U118*2+U119*6+U105*$D$105+$D$106*U106+$D$107*U107+$D$108*U108+$D$109*U109+$D$110*U110+$D$122*U122+$D$123*U123+$D$124*U124+$D$125*U125+$D$126*U126+$D$127*U127+$D$128*U128+$D$129*U129+$D$130*U130+$D$131*U131+$D$132*U132+$D$133*U133+$D$134*U134+$D$135*U135+$D$136*U136+$D$137*U137+$D$138*U138+$D$139*U139+$D$140*U140+$D$141*U141+D104*U104","v":0},{"$f":"SUM(V7:V55)+SUM(V57:V82)+SUM(V84:V101)+SUM(V102)*7+SUM(V103)*5+SUM(V112)*6+SUM(V113)*3+SUM(V114)*4+SUM(V115)*5+SUM(V116)*3+SUM(V120)*5+V117*3+V118*2+V119*6+V105*$D$105+$D$106*V106+$D$107*V107+$D$108*V108+$D$109*V109+$D$110*V110+$D$122*V122+$D$123*V123+$D$124*V124+$D$125*V125+$D$126*V126+$D$127*V127+$D$128*V128+$D$129*V129+$D$130*V130+$D$131*V131+$D$132*V132+$D$133*V133+$D$134*V134+$D$135*V135+$D$136*V136+$D$137*V137+$D$138*V138+$D$139*V139+$D$140*V140+$D$141*V141+D104*V104","v":0},{"$f":"SUM(W7:W55)+SUM(W57:W82)+SUM(W84:W101)+SUM(W102)*7+SUM(W103)*5+SUM(W112)*6+SUM(W113)*3+SUM(W114)*4+SUM(W115)*5+SUM(W116)*3+SUM(W120)*5+W117*3+W118*2+W119*6+W105*$D$105+$D$106*W106+$D$107*W107+$D$108*W108+$D$109*W109+$D$110*W110+$D$122*W122+$D$123*W123+$D$124*W124+$D$125*W125+$D$126*W126+$D$127*W127+$D$128*W128+$D$129*W129+$D$130*W130+$D$131*W131+$D$132*W132+$D$133*W133+$D$134*W134+$D$135*W135+$D$136*W136+$D$137*W137+$D$138*W138+$D$139*W139+$D$140*W140+$D$141*W141+D104*W104","v":0},{"$f":"SUM(X7:X55,X57:X82,X84:X110,X112:X120,X122:X141)","v":0},{"$f":"SUM(Y7:Y55,Y57:Y82,Y84:Y110,Y112:Y120,Y122:Y141)","v":0},{"$f":"SUM(Z7:Z55,Z57:Z82,Z84:Z110,Z112:Z120,Z122:Z141)","v":0},{"$f":"SUM(AA7:AA55,AA57:AA82,AA84:AA110,AA112:AA120,AA122:AA141)","v":0}]
[]
["СТЕКЛОПЛАСТИКОВЫЕ РЕЛЬЕФЫ"]
["№1 Double Spheric","M","40/15",1,{"$nulls":6},1.72,5010,{"$nulls":11},{"$f":"SUM(M7:W7)*K7","v":0},{"$f":"L7*(M7+N7+O7+P7+Q7+R7+S7+T7+U7)+V7*(L7*110%)+W7*(L7*110%)","v":0},"00-00000021",{"$f":"D7*SUM(M7:W7)","v":0}]
["№2 Spheric","M","41/16",1,{"$nulls":6},2.3,5060,{"$nulls":11},{"$f":"SUM(M8:W8)*K8","v":0},{"$f":"L8*(M8+N8+O8+P8+Q8+R8+S8+T8+U8)+V8*(L8*110%)+W8*(L8*110%)","v":0},"00-00000022",{"$f":"D8*SUM(M8:W8)","v":0}]
["№4 Small Spheric","XS","30/8",1,{"$nulls":6},0.9,2790,{"$nulls":11},0,0,"00-00000023",{"$f":"D9*SUM(M9:W9)","v":0}]
["№5 Hollow","M","49/40/17",1,{"$nulls":6},1.95,5770,{"$nulls":11},0,0,"00-00000026",0]
["№6 Nest","S","38/28/9",1,{"$nulls":6},1.15,3740,{"$nulls":11},0,0,"00-00000027",0]
["№7 Casper","S","37/35/17",1,{"$nulls":6},1.4,4370,{"$nulls":11},0,0,"00-00000030",0]
["№9 Delfino","S","45/27/15",1,{"$nulls":6},1.2,4370,{"$nulls":11},0,0,"00-00000032",0]
["№10 Bone","S","43/26/10",1,{"$nulls":6},1.4,2790,{"$nulls":11},0,0,"00-00000031",0]
["№11 Wing","M","64/12/12",1,{"$nulls":6},1.1,4370,{"$nulls":11},0,0,"00-00000033",0]
["№12 Stump","M","38/36/23",1,{"$nulls":6},1.7,4500,{"$nulls":11},0,0,"00-00000034",0]
["№13 Ear","M","42/33/16",1,{"$nulls":6},1.8,4760,{"$nulls":11},0,0,"00-00000035",0]
["№14 Camel","L","64/25/13",1,{"$nulls":6},1.65,5060,{"$nulls":11},0,0,"00-00000009",0]
["№15 Nut","M","47/31/12.5",1,{"$nulls":6},1.75,4760,{"$nulls":11},0,0,"00-00000010",0]
["№16 Dune","S","38/29/11",1,{"$nulls":6},1.2,4050,{"$nulls":11},0,0,"00-00000011",0]
["№17 Dream Point","M","45/37/12.5",1,{"$nulls":6},1.6,4810,{"$nulls":11},0,0,"00-00000012",0]
["№18 Boomerang","M","66/19/13",1,{"$nulls":6},1.6,4810,{"$nulls":11},0,0,"00-00000036",0]
["№21 Banana","L","70/30/15",1,{"$nulls":6},2.1,6270,{"$nulls":11},0,0,"00-00000015",0]
["№22 Turtle","M","50/33/12",1,{"$nulls":6},1.6,4760,{"$nulls":11},0,0,"00-00000016",0]
["№23 Vedro II NEW!2020","M","35/23",1,{"$nulls":6},1.7,5640,{"$nulls":11},0,0,"00-00000020",0]
["№24 Hippo","M","41/32/13",1,{"$nulls":6},1.4,4690,{"$nulls":11},0,0,"00-00000037",0]
["№25 Wave","L","89/30/20",1,{"$nulls":6},3,7220,{"$nulls":11},0,0,"00-00000038",0]
["№26 Smurf","M","48/30/13",1,{"$nulls":6},1.65,4810,{"$nulls":11},0,0,"00-00000005",0]
["№27 Curve I","S","45/22/12",1,{"$nulls":6},1.4,4810,{"$nulls":11},0,0,"00-00000006",0]
["№28 Curve II","S","44/24/12",1,{"$nulls":6},1.32,4810,{"$nulls":11},0,0,"00-00000007",0]
["№29 Slack","S","36/25/20",1,{"$nulls":6},1.66,4560,{"$nulls":11},0,0,"00-00000008",0]
["№30 Moon","L","74/36/15",1,{"$nulls":6},2,7220,{"$nulls":11},0,0,"00-00000177",0]
["№32 Curve III","S","41/25/10",1,{"$nulls":6},1.35,3870,{"$nulls":11},0,0,"00-00000166",0]
["№35 FF I","XS","30/8",1,{"$nulls":6},0.9,2790,{"$nulls":11},0,0,"00-00000024",0]
["№36 FF II","XS","30/8",1,{"$nulls":6},0.9,2790,{"$nulls":11},0,0,"00-00000025",0]
["№37 Bent","S","53/27/10",1,{"$nulls":6},1.1,4500,{"$nulls":11},0,0,"00-00000297",0]
["№38 Drop","L","50/32/21",1,{"$nulls":6},2.2,6020,{"$nulls":11},0,0,"00-00000294",0]
["№39 Egg","L","54/32/19",1,{"$nulls":6},2.2,6020,{"$nulls":11},0,0,"00-00000295",0]
["№40 Vedro","L","40/24",1,{"$nulls":6},2.45,6460,{"$nulls":11},0,0,"00-00000296",0]
["№41 Flat","S","41/27/10",1,{"$nulls":6},1.25,3740,{"$nulls":11},0,0,"00-00000298",0]
["№42 Knot","S","43/22/9",1,{"$nulls":6},1,3240,{"$nulls":11},0,0,"00-00000299",0]
["№44 Tweak","S","46/25/12",1,{"$nulls":6},1.3,4050,{"$nulls":11},0,0,"00-00000308",0]
["№46 Bolda","S","42/23/10",1,{"$nulls":6},1.15,3110,{"$nulls":11},0,0,"00-00000326",0]
["№47 Iron","L","58/42/18",1,{"$nulls":6},2.2,6140,{"$nulls":11},0,0,"00-00000345",0]
["№56 Head I ","S","36/32/16",1,{"$nulls":6},1.05,3740,{"$nulls":11},0,0,"00-00000480",0]
["№57 Head II ","XS","37/16/16",1,{"$nulls":6},1.1,3740,{"$nulls":11},0,0,"00-00000481",0]
["№58 Head III ","M","44/40/22",1,{"$nulls":6},1.6,4690,{"$nulls":11},0,0,"00-00000482",0]
["№59 Head IV ","L","47/40/24",1,{"$nulls":6},1.6,5200,{"$nulls":11},0,0,"00-00000483",0]
["№63 Brick I ","XS","27/23/8",1,{"$nulls":6},0.6,2790,{"$nulls":11},0,0,"00-00000486",0]
["№64 Brick II ","XS","34/23/10",1,{"$nulls":6},0.9,3740,{"$nulls":11},0,0,"00-00000487",0]
["№65 Brick III ","S","33/22/14",1,{"$nulls":6},1,4250,{"$nulls":11},0,0,"00-00000488",0]
["№66 Brick IV ","S","33/22/14",1,{"$nulls":6},1.2,4560,{"$nulls":11},0,0,"00-00000491",0]
["№101 Brick V    ","M","42/39/16",1,{"$nulls":6},1.17,4760,{"$nulls":11},0,0,"00-00000782",0]
["№102 Brick VI ","M","41/26/20",1,{"$nulls":6},1.3,4560,{"$nulls":11},0,0,"00-00000783",0]
["№70 Head V ","M","37/27/23",1,{"$nulls":6},1.75,5200,{"$nulls":11},0,0,"00-00000511",0]
["ДВУХТЕКСТУРНЫЕ СТЕКЛОПЛАСТИКОВЫЕ РЕЛЬЕФЫ"]
["№8 Volcano","M","45/40/16",1,{"$nulls":6},1.62,5640,{"$nulls":11},{"$f":"SUM(M57:W57)*K57","v":0},0,"00-00000450",0]
["№45 Crater","S","48/28/13",1,{"$nulls":6},1.6,4690,{"$nulls":11},0,0,"00-00000315",0]
["№48 Iron II","L","67/38/12",1,{"$nulls":6},1.5,5010,{"$nulls":11},0,0,"00-00000393",0]
["№49 Big Crater","L","57/50/18",1,{"$nulls":6},2.75,6460,{"$nulls":11},0,0,"00-00000366",0]
["№53 Coffee","M","55/28/9",1,{"$nulls":6},1.25,4690,{"$nulls":11},0,0,"00-00000449",0]
["№54 Smile","M","45/30/13",1,{"$nulls":6},1.21,4370,{"$nulls":11},0,0,"00-00000459",0]
["№55 Lucky","M","45/40/14",1,{"$nulls":6},1.5,5010,{"$nulls":11},0,0,"00-00000479",0]
["№60 Pinch I ","XS","37/18/11",1,{"$nulls":6},0.82,3740,{"$nulls":11},0,0,"00-00000496",0]
["№61 Pinch II  ","S","39/20/13",1,{"$nulls":6},1,4180,{"$nulls":11},0,0,"00-00000497",0]
["№62 Pinch III  ","S","33/27/13",1,{"$nulls":6},1.1,4250,{"$nulls":11},0,0,"00-00000498",0]
["№67 Snake I  ","S","53/13/9",1,{"$nulls":6},0.9,4310,{"$nulls":11},0,0,"00-00000494",0]
["№68 Snake II  ","S","57/15/9",1,{"$nulls":6},1,4500,{"$nulls":11},0,{"$f":"L68*(M68+N68+O68+P68+Q68+R68+S68+T68+U68)+V68*(L68*110%)+W68*(L68*110%)","v":0},"00-00000495",0]
["№69 Lips  ","M","67/18/7",1,{"$nulls":6},1.1,4690,{"$nulls":11},0,0,"00-00000510",{"$f":"D69*SUM(M69:W69)","v":0}]
["№111.1 DualSpheric I ","XXL","77/37",1,{"$nulls":6},8,17100,{"$nulls":11},{"$f":"SUM(M70:W70)*K70","v":0},{"$f":"L70*(M70+N70+O70+P70+Q70+R70+S70+T70+U70)+V70*(L70*110%)+W70*(L70*110%)","v":0},"00-00001356",{"$f":"D70*SUM(M70:W70)","v":0}]
["№111.2 DualSpheric I ","XXL","77/37",1,{"$nulls":6},8,16900,{"$nulls":11},0,0,"00-00001363",{"$f":"D71*SUM(M71:W71)","v":0}]
["№111.3 DualSpheric I ","XXL","77/37",1,{"$nulls":6},8,16300,{"$nulls":11},0,0,"00-00001364",{"$f":"D72*SUM(M72:W72)","v":0}]
["№112 DualSpheric II ","XL","62,5/18,5",1,{"$nulls":6},2.8,10100,{"$nulls":11},0,0,"00-00001357",{"$f":"D73*SUM(M73:W73)","v":0}]
["№112.1 DualSpheric II ","XL","62,5/18,5",1,{"$nulls":6},2.8,11300,{"$nulls":11},{"$f":"SUM(M74:W74)*K74","v":0},{"$f":"L74*(M74+N74+O74+P74+Q74+R74+S74+T74+U74)+V74*(L74*110%)+W74*(L74*110%)","v":0},"00-00001358",{"$f":"D74*SUM(M74:W74)","v":0}]
["№114 DualSpheric III","L","56/25",1,{"$nulls":6},3.2,10200,{"$nulls":11},{"$f":"SUM(M75:W75)*K75","v":0},{"$f":"L75*(M75+N75+O75+P75+Q75+R75+S75+T75+U75)+V75*(L75*110%)+W75*(L75*110%)","v":0},"00-00002009",0]
["№103 Kayak Glossy I ","XL","93/29/13",1,{"$nulls":6},3,7600,{"$nulls":11},0,0,"00-00001039",0]
["№104 Kayak Glossy II ","XL","87/15/12",1,{"$nulls":6},2.3,7600,{"$nulls":11},0,0,"00-00001040",0]
["№105 Kayak Glossy III ","L","74/30/15",1,{"$nulls":6},1.8,6400,{"$nulls":11},0,0,"00-00001042",0]
["№106 Kayak Glossy IV ","L","65/17/8",1,{"$nulls":6},1.4,6400,{"$nulls":11},0,0,"00-00001046",0]
["№108 Kayak Glossy VI ","XL","93/40/13",1,{"$nulls":6},3.1,7600,{"$nulls":11},0,{"$f":"L80*(M80+N80+O80+P80+Q80+R80+S80+T80+U80)+V80*(L80*110%)+W80*(L80*110%)","v":0},"00-00001044",0]
["№109 Kayak Glossy VII ","L","65/26/9",1,{"$nulls":6},1.7,6400,{"$nulls":11},0,0,"00-00001041",0]
["№113 Kayak Glossy VIII ","L","67/20/12",1,{"$nulls":6},1.7,6800,{"$nulls":11},{"$f":"SUM(M82:W82)*K82","v":0},{"$f":"L82*(M82+N82+O82+P82+Q82+R82+S82+T82+U82)+V82*(L82*110%)+W82*(L82*110%)","v":0},"00-00001442",{"$f":"D82*SUM(M82:W82)","v":0}]
["ФАНЕРНЫЕ РЕЛЬЕФЫ"]
["W5 Pyramid V (L)","XXL","107/68/27",1,{"$nulls":6},"5,9",6970,{"$nulls":11},{"$f":"SUM(M84:W84)*K84","v":0},0,"00-00000587",{"$f":"D84*SUM(M84:W84)","v":0}]
["W6 Pyramid V (R)","XXL","107/68/27",1,{"$nulls":6},"5,9",6970,{"$nulls":11},0,0,"00-00000681",0]
["W14 Basket","XL","56/53/42",1,{"$nulls":6},"6,12",8580,{"$nulls":11},0,0,"00-00000391",0]
["W13 Ladge","XL","115/26/20",1,{"$nulls":6},"5,1",7410,{"$nulls":11},{"$f":"SUM(M87:W87)*K87","v":0},{"$f":"L87*(M87+N87+O87+P87+Q87+R87+S87+T87+U87)+V87*(L87*110%)+W87*(L87*110%)","v":0},"00-00000161",{"$f":"D87*SUM(M87:W87)","v":0}]
["W1 Pyramid I","S","35/35/17,5",1,{"$nulls":6},"2",2860,{"$nulls":11},0,0,"00-00000306",0]
["W2 Pyramid II","M","41/41/17",1,{"$nulls":6},"1,4",2920,{"$nulls":11},0,0,"00-00000451",0]
["W3 Pyramid III","XL","67/58/23",1,{"$nulls":6},"4",5770,{"$nulls":11},0,0,"00-00000017",0]
["W4 Pyramid IV","XL","68/53/25",1,{"$nulls":6},"5,3",6580,{"$nulls":11},0,0,"00-00000019",0]
["W10 Big Pinch","L","79/21/24",1,{"$nulls":6},"3,82",5700,{"$nulls":11},0,0,"00-00000618",0]
["W18 Hill I","XXL","140/135/35",1,{"$nulls":6},"16,2",18610,{"$nulls":11},0,0,"00-00000692",0]
["W21 Pyramid IX","XXL","115/115/20",1,{"$nulls":6},"0",11020,{"$nulls":11},0,0,"00-00000737",0]
["W23 Pyramid X","L","92/42/15",1,{"$nulls":6},"0",4680,{"$nulls":11},0,0,"00-00000706",0]
["W22 Pyramid XI","L","94/56/20",1,{"$nulls":6},"0",5450,{"$nulls":11},0,0,"00-00000738",0]
["W26 Ledge II","XXL","123/30/10",1,{"$nulls":6},"0",7150,{"$nulls":11},0,0,"00-00000699",0]
["W27 Star Destroyer","XL","80/75/25",1,{"$nulls":6},"0",9460,{"$nulls":11},0,0,"00-00000698",0]
["W25 Pyramid XII","XXL","77/77/25",1,{"$nulls":6},"0",6710,{"$nulls":11},0,0,"00-00000696",0]
["W20 Pyramid XIII","XXL","115/115/40",1,{"$nulls":6},"0",15320,{"$nulls":11},0,0,"00-00000742",0]
["W15 Pyramid Micro","XS","26/26/11",1,{"$nulls":6},"0",1930,{"$nulls":11},0,0,"00-00000772",0]
["Сет Pyramid","S","31/31/8,5-31/31/16",7,{"$nulls":6},"0",17710,{"$nulls":11},0,0,"00-00000693",0]
["Сет Pentagon L","L","130/124/21",5,{"$nulls":6},"0",21260,{"$nulls":11},0,0,"00-00000694",0]
["W34 Сет Long Pinches","L-XL","155/26/13; 135/24/11; 137/18/13;",3,{"$nulls":6},"0",22300,{"$nulls":11},{"$f":"SUM(M104:W104)*K104","v":0},{"$f":"L104*(M104+N104+O104+P104+Q104+R104+S104+T104+U104)+V104*(L104*110%)+W104*(L104*110%)","v":0},"00-00000695",{"$f":"D104*SUM(M104:W104)","v":0}]
["Сет Wooden Pinches","M-L","102/28/15; 82/20/16; 61/23/17; 52/20/17;",4,{"$nulls":6},"0",18100,{"$nulls":11},{"$f":"SUM(M105:W105)*K105","v":0},{"$f":"L105*(M105+N105+O105+P105+Q105+R105+S105+T105+U105)+V105*(L105*110%)+W105*(L105*110%)","v":0},"00-00000695",{"$f":"D105*SUM(M105:W105)","v":0}]
["W31 Slice I","XXL","158/96",1,{"$nulls":6},"0",18600,{"$nulls":11},0,{"$f":"L106*(M106+N106+O106+P106+Q106+R106+S106+T106+U106)+V106*(L106*110%)+W106*(L106*110%)","v":0},"00-00000696",0]
["W32 Slice II","XXL","140/70",1,{"$nulls":6},"0",14700,{"$nulls":11},0,0,"00-00000697",0]
["Сет W33 Hill III","M-XL","157/133",3,{"$nulls":6},"0",13200,{"$nulls":11},0,0,"00-00000698",0]
["Сет W36 Wings I","XL","110/48",2,{"$nulls":6},"0",10800,{"$nulls":11},0,0,"00-00000703",0]
["Сет W37 Wings II","L","99/60",2,{"$nulls":6},"0",9850,{"$nulls":11},0,0,"00-00000705",0]
["СЕТЫ РЕЛЬЕФОВ"]
["Сет Bricks ","XS-S","Brick I - 27/23/8; Brick II - 34/23/10; Brick III - 53/22/14; Brick IV - 31/28/15;",6,{"$nulls":6},"3,7",20790,{"$nulls":11},{"$f":"SUM(M112:W112)*K112","v":0},0,"00-00000501",0]
["Сет Curve","S","Curve I - 45/22/12;Curve II - 44/22/12; Curve III - 41/25/10;  ",3,{"$nulls":6},4.1,12970,{"$nulls":11},0,0,"00-00000506",0]
["Сет Flat","S","Flat - 41/27/10; Bolda - 42/23/10; Tweak - 46/25/12; Knot - 43/22/9;",4,{"$nulls":6},4.7,12400,{"$nulls":11},0,0,"00-00000505",0]
["Сет Heads ","XS-L","Head I - 36/32/16;Head II - 37/16/16; Head III - 44/40/22; Head IV - 47/40/24; Head V - 37/27/23; ",5,{"$nulls":6},7.35,20820,{"$nulls":11},0,0,"00-00000502",0]
["Сет Pinches ","XS-S","Pinch I - 37/18/11; Pinch II - 39/20/13; Pinch III - 33/27/13;",3,{"$nulls":6},2.9,11640,{"$nulls":11},0,0,"00-00000500",{"$f":"D116*SUM(M116:W116)","v":0}]
["Сет Guitar NEW! 2023       ","XL","72,5/30/15; 74/26,5/16; 68/28/15",3,{"$nulls":6},5.7,18300,{"$nulls":11},{"$f":"SUM(M117:W117)*K117","v":0},{"$f":"L117*(M117+N117+O117+P117+Q117+R117+S117+T117+U117)+V117*(L117*110%)+W117*(L117*110%)","v":0},"00-00001351",{"$f":"D117*SUM(M117:W117)","v":0}]
["Сет Cake NEW! 2023       ","M-L","51/16/13; 57/39/13",2,{"$nulls":6},2.86,12100,{"$nulls":11},{"$f":"SUM(M118:W118)*K118","v":0},0,"00-00001352",{"$f":"D118*SUM(M118:W118)","v":0}]
["Сет Jimbo NEW! 2023       ","M-L","-",6,{"$nulls":6},4.7,29200,{"$nulls":11},{"$f":"SUM(M119:W119)*K119","v":0},{"$f":"L119*(M119+N119+O119+P119+Q119+R119+S119+T119+U119)+V119*(L119*110%)+W119*(L119*110%)","v":0},"00-00001353",{"$f":"D119*SUM(M119:W119)","v":0}]
["Сет Glam Glossy        ","XS-S","-",5,{"$nulls":6},4.5,22000,{"$nulls":11},0,0,"00-00001045",0]
["LAST CALL FAMILY"]
["Last Call Volume №1 ","M","450/240",1,{"$nulls":6},0.55,4480,{"$nulls":11},{"$f":"SUM(M122:W122)*K122","v":0},{"$f":"L122*(M122+N122+O122+P122+Q122+R122+S122+T122+U122)+V122*(L122*110%)+W122*(L122*110%)","v":0},"00-00001743",{"$f":"D122*SUM(M122:W122)","v":0}]
["Last Call Volume №2 ","M","440/190",1,{"$nulls":6},0.5,4750,{"$nulls":11},{"$f":"SUM(M123:W123)*K123","v":0},{"$f":"L123*(M123+N123+O123+P123+Q123+R123+S123+T123+U123)+V123*(L123*110%)+W123*(L123*110%)","v":0},"00-00001756",{"$f":"D123*SUM(M123:W123)","v":0}]
["Last Call Volume №3","M","520/160",1,{"$nulls":6},0.33,5240,{"$nulls":11},0,0,"00-00001757",0]
["Last Call Volume №4","M","440/230",1,{"$nulls":6},0.65,4950,{"$nulls":11},0,0,"00-00001755",0]
["Last Call Volume №5","M","490/190",1,{"$nulls":6},0.39,4680,{"$nulls":11},0,0,"00-00001758",0]
["Last Call Volume №6","M","560/245",1,{"$nulls":6},0.98,5430,{"$nulls":11},0,0,"00-00001759",0]
["Last Call Volume №7","L","620/275",1,{"$nulls":6},1.3,5940,{"$nulls":11},0,0,"00-00001753",0]
["Last Call Volume №8","L","570/320",1,{"$nulls":6},1.25,5870,{"$nulls":11},0,0,"00-00001752",0]
["Last Call Volume №9","L","670/250",1,{"$nulls":6},1.16,6330,{"$nulls":11},0,0,"00-00001751",0]
["Last Call Volume №10","L","720/300",1,{"$nulls":6},1.49,6950,{"$nulls":11},0,0,"00-00001760",0]
["Last Call Volume №11","XL","720/355",1,{"$nulls":6},1.59,7150,{"$nulls":11},0,0,"00-00001761",0]
["Last Call Volume №12","L","630/270",1,{"$nulls":6},1.21,7040,{"$nulls":11},0,0,"00-00001754",0]
["Last Call Volume №13","XL","700/300",1,{"$nulls":6},1.21,7350,{"$nulls":11},0,0,"00-00001762",0]
["Last Call Volume №14","XL","830/270",1,{"$nulls":6},1.53,7940,{"$nulls":11},0,0,"00-00001763",0]
["Last Call Volume №15","XL","810/250/140",1,{"$nulls":6},1.62,8170,{"$nulls":11},0,0,"00-00001750",0]
["Last Call Volume №16","XL","880/405/123",1,{"$nulls":6},1.67,9340,{"$nulls":11},0,0,"00-00001764",0]
["Last Call Volume №17","XXL","1030/375/148",1,{"$nulls":6},2.21,11240,{"$nulls":11},0,0,"00-00001765",0]
["Last Call Volume №18","XXL","1360/560/173",1,{"$nulls":6},4.55,14140,{"$nulls":11},0,0,"00-00001766",0]
["Last Call Volume №19","XXL","980/360/123",1,{"$nulls":6},1.79,10650,{"$nulls":11},0,0,"00-00001767",0]
["Last Call Volume №20","XXL","985/360/154",1,{"$nulls":6},2.31,10200,{"$nulls":11},0,0,"00-00001768",0]

{"sheet":"Для тренировки NEW! 2023","index":4,"n_rows":22,"n_cols":25,"rows_kept":22,"merged":[[0,0,1,0],[0,2,1,2],[0,5,0,15],[0,18,0,24],[7,5,7,15],[9,14,9,19],[10,14,10,16],[10,18,10,19],[11,14,11,16],[11,18,11,19],[12,14,12,16],[12,18,12,19]]}
["Название","Количество в наборе","Изображение ","Вес набора","Цена набора","Выберите цвет зацепов",{"$nulls":10},"Общий вес","Общая стоимость","Длина необходимых болтов для заказанных наборов"]
[null,"шт",null,"кг","руб","Любой цвет","3028 RAL","5015 RAL","1018 RAL","6037 RAL","9016 RAL","9005 RAL","2003 RAL","4008 RAL","Зеленый флюр +10%","Розовый флюр +10%","кг","руб","40мм","50мм","60мм","80мм","90мм","100мм","120мм"]
["System hold I (D=12см; H=6см) NEW! 2023",2,null,1.96,1100,{"$nulls":11},{"$f":"SUM(F3:P3)*D3","v":0},{"$f":"E3*SUM(F3:N3)+O3*(E3*110%)+P3*(E3*110%)","v":0},{"$nulls":3},{"$f":"SUM(F3:P3)*2","v":0}]
["System hold II (D=12см; H=6см) NEW! 2023",2,null,2.06,1100,{"$nulls":11},0,{"$f":"E4*SUM(F4:N4)+O4*(E4*110%)+P4*(E4*110%)","v":0},{"$nulls":3},{"$f":"SUM(F4:P4)*2","v":0}]
["System hold III (D=12см; H=7см) NEW! 2023",2,null,2.6,1200,{"$nulls":11},0,0,null,null,{"$f":"SUM(F5:P5)*2","v":0}]
["System hold IV (D=13,5см; H=4см)                 NEW! 2023",2,null,1.9,1100,{"$nulls":11},0,0,null,null,{"$f":"SUM(F6:P6)*2","v":0}]
["System hold V",2,null,4.7,2600,{"$nulls":11},0,0,{"$nulls":3},{"$f":"SUM(F7:P7)*2","v":0}]
["Балансборд Spheric Balance AZTEC",1,null,3.4,4000,{"$nulls":11},{"$f":"SUM(F8:P8)*D8","v":0},0]
[]
[{"$nulls":14},"Итого"]
[{"$nulls":14},"Общее количество зацепов для тренировки",null,null,"Общий вес","Общая стоимость"]
[{"$nulls":14},"шт",null,null,"кг","руб"]
[{"$nulls":14},{"$f":"SUM(F3:P3)*2+SUM(F4:P4)*2+SUM(F5:P5)*2+SUM(F6:P6)*2+SUM(F7:P7)*2","v":0},null,null,{"$f":"SUM(Q3:Q7)","v":0},{"$f":"SUM(R3:R7)","v":0}]
{"$rows_empty":8}
[{"$nulls":5},{"$f":"SUM(F3:P5)","v":0}]

{"sheet":"Крепеж","index":5,"n_rows":17,"n_cols":7,"rows_kept":17,"merged":[[0,0,1,0],[13,4,13,6]]}
["Название","Количество","Вес","Цена","Укажите количество","Общий вес","Общая стоимость"]
[null,"шт","кг","руб","шт","кг","руб"]
["Болт M10 40мм",1,0.032,16,null,{"$f":"C3*E3","v":0},{"$f":"D3*E3","v":0}]
["Болт M10 50мм",1,0.038,18,null,{"$f":"C4*E4","v":0},0]
["Болт M10 60мм",1,0.044,20,null,0,0]
["Болт M10 70мм",1,0.05,22,null,0,0]
["Болт M10 80мм",1,0.055,24,null,0,0]
["Болт M10 90мм",1,0.062,28,null,0,0]
["Болт M10 100мм",1,0.068,31,null,0,0]
["Болт M10 120мм",1,0.08,37,null,0,0]
["Бульдог M10",1,7.6E-3,10,null,0,0]
[]
[]
[{"$nulls":4},"Итого"]
[{"$nulls":4},"Общее количество","Общий вес","Общая стоимость"]
[{"$nulls":4},"шт","кг","руб"]
[{"$nulls":4},{"$f":"SUM(E3:E11)","v":0},{"$f":"SUM(F3:F11)","v":0},{"$f":"SUM(G3:G11)","v":0}]

{"sheet":"Формирование","index":6,"n_rows":92,"n_cols":9,"rows_kept":92,"hidden":true,"merged":[[1,0,1,2],[1,3,1,5],[1,6,1,8],[18,6,18,8]]}
["Куда"]
["Зацепы",null,null,"Рельефы",null,null,"Для тренировки"]
["Название","Кол-во","Стоимость","Название","Кол-во","Стоимость","Название","Кол-во","Стоимость"]
["New Beads",{"$f":"Зацепы!#REF!","v":{"$error":"#REF!"}},{"$f":"Зацепы!Y7","v":0},"Рельеф № 1 Double Spheric",{"$f":"Рельефы!M7","v":0},{"$f":"Рельефы!Y7","v":0},"Campus hold II",{"$f":"'Для тренировки NEW! 2023'!#REF!","v":{"$error":"#REF!"}},{"$f":"'Для тренировки NEW! 2023'!R3","v":0}]
[{"$nulls":3},"Рельеф № 2 Spheric",{"$f":"Рельефы!M8","v":0},{"$f":"Рельефы!Y8","v":0},"System hold I",{"$f":"'Для тренировки NEW! 2023'!#REF!","v":{"$error":"#REF!"}},{"$f":"'Для тренировки NEW! 2023'!R4","v":0}]
["Energy",{"$error":"#REF!"},{"$error":"#REF!"},"Рельеф № 3 Tufa",{"$f":"Рельефы!#REF!","v":{"$error":"#REF!"}},{"$f":"Рельефы!#REF!","v":{"$error":"#REF!"}},"System hold II",{"$f":"'Для тренировки NEW! 2023'!#REF!","v":{"$error":"#REF!"}},{"$f":"'Для тренировки NEW! 2023'!R5","v":0}]
["Sqrew/XS",null,null,"Рельеф Small Spheric № 4",{"$f":"Рельефы!M9","v":0},{"$f":"Рельефы!Y9","v":0},"Турник Extensor без накладок",{"$f":"'Для тренировки NEW! 2023'!#REF!","v":{"$error":"#REF!"}},{"$f":"'Для тренировки NEW! 2023'!R6","v":0}]
["Shooter I",{"$f":"Зацепы!#REF!","v":{"$error":"#REF!"}},{"$f":"Зацепы!#REF!","v":{"$error":"#REF!"}},"Рельеф Hollow № 5",{"$f":"Рельефы!M10","v":0},{"$f":"Рельефы!Y10","v":0},null,{"$f":"'Для тренировки NEW! 2023'!#REF!","v":{"$error":"#REF!"}},{"$f":"'Для тренировки NEW! 2023'!#REF!","v":{"$error":"#REF!"}}]
["Uni-Sqrew",{"$f":"Зацепы!#REF!","v":{"$error":"#REF!"}},{"$f":"Зацепы!Y9","v":0},"Рельеф Nest № 6",{"$f":"Рельефы!M11","v":0},{"$f":"Рельефы!Y11","v":0},"Шары Nutcracker(80мм)",{"$f":"'Для тренировки NEW! 2023'!#REF!","v":{"$error":"#REF!"}},{"$f":"'Для тренировки NEW! 2023'!#REF!","v":{"$error":"#REF!"}}]
["BARK sqrew",{"$f":"Зацепы!#REF!","v":{"$error":"#REF!"}},{"$f":"Зацепы!#REF!","v":{"$error":"#REF!"}},"Рельеф Casper № 7",{"$f":"Рельефы!M12","v":0},{"$f":"Рельефы!Y12","v":0},"Шары Nutcracker(90мм)",{"$f":"'Для тренировки NEW! 2023'!#REF!","v":{"$error":"#REF!"}},{"$f":"'Для тренировки NEW! 2023'!#REF!","v":{"$error":"#REF!"}}]
["Spots PU",{"$f":"Зацепы!#REF!","v":{"$error":"#REF!"}},{"$f":"Зацепы!Y15","v":0},"Рельеф № 8 Volcano",{"$f":"Рельефы!M13","v":0},{"$f":"Рельефы!Y13","v":0},"Паралетсы",{"$f":"'Для тренировки NEW! 2023'!#REF!","v":{"$error":"#REF!"}},{"$f":"'Для тренировки NEW! 2023'!R7","v":0}]
["Geometric Screw PU",{"$f":"Зацепы!#REF!","v":{"$error":"#REF!"}},{"$f":"Зацепы!Y18","v":0},"Рельеф Delfino № 9",{"$f":"Рельефы!M14","v":0},{"$f":"Рельефы!Y14","v":0},"Итого",{"$f":"SUM(H4:H11)","v":{"$error":"#REF!"}},{"$f":"SUM(I4:I11)","v":{"$error":"#REF!"}}]
["Granite Screw PU",{"$f":"Зацепы!#REF!","v":{"$error":"#REF!"}},{"$f":"Зацепы!Y19","v":0},"Рельеф Bone №10",{"$f":"Рельефы!M15","v":0},{"$f":"Рельефы!Y15","v":0}]
["S",null,null,"Рельеф Wing № 11",{"$f":"Рельефы!M16","v":0},{"$f":"Рельефы!Y16","v":0}]
["Edges",{"$f":"Зацепы!#REF!","v":{"$error":"#REF!"}},{"$f":"Зацепы!Y22","v":0},"Рельеф Stump № 12",{"$f":"Рельефы!M17","v":0},{"$f":"Рельефы!Y17","v":0}]
["No fear",{"$f":"Зацепы!#REF!","v":{"$error":"#REF!"}},{"$f":"Зацепы!Y23","v":0},"Рельеф Ear № 13",{"$f":"Рельефы!M18","v":0},{"$f":"Рельефы!Y18","v":0}]
["Grime",{"$f":"Зацепы!#REF!","v":{"$error":"#REF!"}},{"$f":"Зацепы!#REF!","v":{"$error":"#REF!"}},"Рельеф Camel № 14",{"$f":"Рельефы!M19","v":0},{"$f":"Рельефы!Y19","v":0}]
["Stone",{"$f":"Зацепы!#REF!","v":{"$error":"#REF!"}},{"$f":"Зацепы!Y24","v":0},"Рельеф Nut № 15",{"$f":"Рельефы!M20","v":0},{"$f":"Рельефы!Y20","v":0}]
["Universal",{"$f":"Зацепы!#REF!","v":{"$error":"#REF!"}},{"$f":"Зацепы!Y25","v":0},"Рельеф Dune № 16",{"$f":"Рельефы!M21","v":0},{"$f":"Рельефы!Y21","v":0},"Крепеж"]
["Metamorphic",{"$f":"Зацепы!#REF!","v":{"$error":"#REF!"}},{"$f":"Зацепы!Y26","v":0},"Рельеф Dream Point № 17",{"$f":"Рельефы!M22","v":0},{"$f":"Рельефы!Y22","v":0},"Название","Кол-во","Стоимость"]
["Metamorphic II",{"$f":"Зацепы!#REF!","v":{"$error":"#REF!"}},{"$f":"Зацепы!Y27","v":0},"Рельеф Boomerang № 18",{"$f":"Рельефы!M23","v":0},{"$f":"Рельефы!Y23","v":0},"Болт M10 40мм",{"$f":"Крепеж!E3","v":0},{"$f":"Крепеж!G3","v":0}]
["Skin Killer",{"$f":"Зацепы!#REF!","v":{"$error":"#REF!"}},{"$f":"Зацепы!Y28","v":0},"Рельеф Banana № 21",{"$f":"Рельефы!M24","v":0},{"$f":"Рельефы!Y24","v":0},"Болт M10 50мм",{"$f":"Крепеж!E4","v":0},{"$f":"Крепеж!G4","v":0}]
["M",null,null,"Рельеф Turtle № 22",{"$f":"Рельефы!M25","v":0},{"$f":"Рельефы!Y25","v":0},"Болт M10 60мм",{"$f":"Крепеж!E5","v":0},{"$f":"Крепеж!G5","v":0}]
["Classic",{"$f":"Зацепы!#REF!","v":{"$error":"#REF!"}},{"$f":"Зацепы!#REF!","v":{"$error":"#REF!"}},"Рельеф № 23 Vedro II",{"$f":"Рельефы!M26","v":0},{"$f":"Рельефы!Y26","v":0},"Болт M10 70мм",{"$f":"Крепеж!E6","v":0},{"$f":"Крепеж!G6","v":0}]
["Geyser II",{"$f":"Зацепы!#REF!","v":{"$error":"#REF!"}},{"$f":"Зацепы!#REF!","v":{"$error":"#REF!"}},"Рельеф Hippo № 24",{"$f":"Рельефы!M27","v":0},{"$f":"Рельефы!Y27","v":0},"Болт M10 80мм",{"$f":"Крепеж!E7","v":0},{"$f":"Крепеж!G7","v":0}]
["Method",{"$f":"Зацепы!#REF!","v":{"$error":"#REF!"}},{"$f":"Зацепы!#REF!","v":{"$error":"#REF!"}},"Рельеф Wave № 25",{"$f":"Рельефы!M28","v":0},{"$f":"Рельефы!Y28","v":0},"Болт M10 90мм",{"$f":"Крепеж!E8","v":0},{"$f":"Крепеж!G8","v":0}]
["Static",{"$f":"Зацепы!#REF!","v":{"$error":"#REF!"}},{"$f":"Зацепы!Y30","v":0},"Рельеф  № 26 Smurf",{"$f":"Рельефы!M29","v":0},{"$f":"Рельефы!Y29","v":0},"Болт M10 100мм",{"$f":"Крепеж!E9","v":0},{"$f":"Крепеж!G9","v":0}]
["X-Power",{"$f":"Зацепы!#REF!","v":{"$error":"#REF!"}},{"$f":"Зацепы!Y31","v":0},"Рельеф  № 27 Curve I",{"$f":"Рельефы!M30","v":0},{"$f":"Рельефы!Y30","v":0},"Болт M10 120мм",{"$f":"Крепеж!E10","v":0},{"$f":"Крепеж!G10","v":0}]
["Handle",{"$f":"Зацепы!#REF!","v":{"$error":"#REF!"}},{"$f":"Зацепы!Y32","v":0},"Рельеф  № 28 Curve II",{"$f":"Рельефы!M31","v":0},{"$f":"Рельефы!Y31","v":0},"Бульдог M10",{"$f":"Крепеж!E11","v":0},{"$f":"Крепеж!G11","v":0}]
["Sand Stone",{"$f":"Зацепы!#REF!","v":{"$error":"#REF!"}},{"$f":"Зацепы!#REF!","v":{"$error":"#REF!"}},"Рельеф  № 29 Slack",{"$f":"Рельефы!M32","v":0},{"$f":"Рельефы!Y32","v":0},"Итого",{"$f":"SUM(H21:H29)","v":0},{"$f":"SUM(I21:I29)","v":0}]
["Sea Life",{"$f":"Зацепы!#REF!","v":{"$error":"#REF!"}},{"$f":"Зацепы!Y33","v":0},"Рельеф  № 30 Moon",{"$f":"Рельефы!M33","v":0},{"$f":"Рельефы!Y33","v":0}]
["Up",{"$f":"Зацепы!#REF!","v":{"$error":"#REF!"}},{"$f":"Зацепы!#REF!","v":{"$error":"#REF!"}},"Evklid PU HB № 31",{"$f":"Рельефы!#REF!","v":{"$error":"#REF!"}},{"$f":"Рельефы!#REF!","v":{"$error":"#REF!"}}]
["L",null,null,"Рельеф  № 32 Curve III",{"$f":"Рельефы!M34","v":0},{"$f":"Рельефы!Y34","v":0}]
["Cloud",{"$f":"Зацепы!#REF!","v":{"$error":"#REF!"}},{"$f":"Зацепы!#REF!","v":{"$error":"#REF!"}},"Penta PU HB № 33",{"$f":"Рельефы!#REF!","v":{"$error":"#REF!"}},{"$f":"Рельефы!#REF!","v":{"$error":"#REF!"}}]
["Bridge stone",{"$f":"Зацепы!#REF!","v":{"$error":"#REF!"}},{"$f":"Зацепы!Y39","v":0},"Trampl PU HB № 34",{"$f":"Рельефы!#REF!","v":{"$error":"#REF!"}},{"$f":"Рельефы!#REF!","v":{"$error":"#REF!"}}]
["Geyser I",{"$f":"Зацепы!#REF!","v":{"$error":"#REF!"}},{"$f":"Зацепы!#REF!","v":{"$error":"#REF!"}},"Pifagor PU HB № 35",{"$f":"Рельефы!#REF!","v":{"$error":"#REF!"}},{"$f":"Рельефы!#REF!","v":{"$error":"#REF!"}}]
["Lever ",{"$f":"Зацепы!#REF!","v":{"$error":"#REF!"}},{"$f":"Зацепы!Y40","v":0},"Stels PU HB № 36",{"$f":"Рельефы!#REF!","v":{"$error":"#REF!"}},{"$f":"Рельефы!#REF!","v":{"$error":"#REF!"}}]
["Hexagon",{"$f":"Зацепы!#REF!","v":{"$error":"#REF!"}},{"$f":"Зацепы!Y41","v":0},"Рельеф Bent № 37",{"$f":"Рельефы!M35","v":0},{"$f":"Рельефы!Y35","v":0}]
["Plesure",{"$f":"Зацепы!#REF!","v":{"$error":"#REF!"}},{"$f":"Зацепы!#REF!","v":{"$error":"#REF!"}},"Рельеф Drop № 38",{"$f":"Рельефы!M36","v":0},{"$f":"Рельефы!Y36","v":0}]
["Expert",{"$f":"Зацепы!#REF!","v":{"$error":"#REF!"}},{"$f":"Зацепы!#REF!","v":{"$error":"#REF!"}},"Рельеф Egg № 39",{"$f":"Рельефы!M37","v":0},{"$f":"Рельефы!Y37","v":0}]
["Roof",{"$f":"Зацепы!#REF!","v":{"$error":"#REF!"}},{"$f":"Зацепы!Y42","v":0},"Рельеф Vedro № 40",{"$f":"Рельефы!M38","v":0},{"$f":"Рельефы!Y38","v":0}]
["Dront",{"$f":"Зацепы!#REF!","v":{"$error":"#REF!"}},{"$f":"Зацепы!Y43","v":0},"Рельеф Flat № 41",{"$f":"Рельефы!M39","v":0},{"$f":"Рельефы!Y39","v":0}]
["Ceuse III",{"$f":"Зацепы!#REF!","v":{"$error":"#REF!"}},{"$f":"Зацепы!Y44","v":0},"Рельеф Knot № 42",{"$f":"Рельефы!M40","v":0},{"$f":"Рельефы!Y40","v":0}]
["Pac-Man",{"$f":"Зацепы!#REF!","v":{"$error":"#REF!"}},{"$f":"Зацепы!Y45","v":0},"Рельеф  MegaSpheric № 43",{"$f":"Рельефы!M41","v":0},{"$f":"Рельефы!Y41","v":0}]
["Kuturchin I",{"$f":"Зацепы!#REF!","v":{"$error":"#REF!"}},{"$f":"Зацепы!Y51","v":0},"Рельеф  Tweak № 44",{"$f":"Рельефы!#REF!","v":{"$error":"#REF!"}},{"$f":"Рельефы!#REF!","v":{"$error":"#REF!"}}]
["XL",null,null,"Рельеф  Crater № 45",{"$f":"Рельефы!M42","v":0},{"$f":"Рельефы!Y42","v":0}]
["Ceuse",{"$f":"Зацепы!#REF!","v":{"$error":"#REF!"}},{"$f":"Зацепы!Y53","v":0},"Рельеф  Bolda № 46",{"$f":"Рельефы!M43","v":0},{"$f":"Рельефы!Y43","v":0}]
["Ceuse II",{"$f":"Зацепы!#REF!","v":{"$error":"#REF!"}},{"$f":"Зацепы!Y54","v":0},"Рельеф  Iron № 47",{"$f":"Рельефы!M44","v":0},{"$f":"Рельефы!Y44","v":0}]
["Muffins",{"$f":"Зацепы!#REF!","v":{"$error":"#REF!"}},{"$f":"Зацепы!Y55","v":0},"Рельеф  Iron II № 48",{"$f":"Рельефы!#REF!","v":{"$error":"#REF!"}},{"$f":"Рельефы!#REF!","v":{"$error":"#REF!"}}]
["Duff",{"$f":"Зацепы!#REF!","v":{"$error":"#REF!"}},{"$f":"Зацепы!#REF!","v":{"$error":"#REF!"}},"Рельеф  Big Crater № 49",{"$f":"Рельефы!M55","v":0},{"$f":"Рельефы!Y55","v":0}]
["Soft Jugs",{"$f":"Зацепы!#REF!","v":{"$error":"#REF!"}},{"$f":"Зацепы!Y60","v":0},"Рельеф  MegaInSpheric № 50",{"$f":"Рельефы!M57","v":0},{"$f":"Рельефы!Y57","v":0}]
["XXL",null,null,"Рельеф Archimed PU HB № 51",{"$f":"Рельефы!#REF!","v":{"$error":"#REF!"}},{"$f":"Рельефы!#REF!","v":{"$error":"#REF!"}}]
["Baton PU",{"$f":"Зацепы!#REF!","v":{"$error":"#REF!"}},{"$f":"Зацепы!Y62","v":0},"Рельеф  Oracle № 52",{"$f":"Рельефы!M58","v":0},{"$f":"Рельефы!Y58","v":0}]
["Dront XXL",{"$f":"Зацепы!#REF!","v":{"$error":"#REF!"}},{"$f":"Зацепы!Y66","v":0},"Рельеф № 53 Coffee",{"$f":"Рельефы!M60","v":0},{"$f":"Рельефы!Y60","v":0}]
["Free Fall",{"$f":"Зацепы!#REF!","v":{"$error":"#REF!"}},{"$f":"Зацепы!Y67","v":0},"Рельеф № 54 Smile",{"$f":"Рельефы!M61","v":0},{"$f":"Рельефы!Y61","v":0}]
["Boss I",{"$f":"Зацепы!#REF!","v":{"$error":"#REF!"}},{"$f":"Зацепы!Y68","v":0},"Рельеф № 55 Lucky",{"$f":"Рельефы!M62","v":0},{"$f":"Рельефы!Y62","v":0}]
["Boss II",{"$f":"Зацепы!#REF!","v":{"$error":"#REF!"}},{"$f":"Зацепы!Y69","v":0},"Рельеф № 56 Head I",{"$f":"Рельефы!M63","v":0},{"$f":"Рельефы!Y63","v":0}]
["GIGA",null,null,"Рельеф № 57 Head II",{"$f":"Рельефы!M64","v":0},{"$f":"Рельефы!Y64","v":0}]
["Fish",{"$f":"Зацепы!#REF!","v":{"$error":"#REF!"}},{"$f":"Зацепы!#REF!","v":{"$error":"#REF!"}},"Рельеф № 58 Head III",{"$f":"Рельефы!M65","v":0},{"$f":"Рельефы!Y65","v":0}]
["Africa",{"$f":"Зацепы!#REF!","v":{"$error":"#REF!"}},{"$f":"Зацепы!#REF!","v":{"$error":"#REF!"}},"Рельеф № 59 Head IV",{"$f":"Рельефы!M66","v":0},{"$f":"Рельефы!Y66","v":0}]
[{"$nulls":3},"Рельеф № 60 Pinch I",{"$f":"Рельефы!M67","v":0},{"$f":"Рельефы!Y67","v":0}]
["Итого",{"$f":"SUM(B4:B61)","v":{"$error":"#REF!"}},{"$f":"SUM(C4:C61)","v":{"$error":"#REF!"}},"Рельеф № 61 Pinch II",{"$f":"Рельефы!M68","v":0},{"$f":"Рельефы!Y68","v":0}]
[{"$nulls":3},"Рельеф № 62 Pinch III",{"$f":"Рельефы!M69","v":0},{"$f":"Рельефы!Y69","v":0}]
[{"$nulls":3},"Рельеф № 63 Brick l",{"$f":"Рельефы!#REF!","v":{"$error":"#REF!"}},{"$f":"Рельефы!#REF!","v":{"$error":"#REF!"}}]
[{"$nulls":3},"Рельеф № 64 Brick II",{"$f":"Рельефы!#REF!","v":{"$error":"#REF!"}},{"$f":"Рельефы!#REF!","v":{"$error":"#REF!"}}]
[{"$nulls":3},"Рельеф № 65 Brick III",{"$f":"Рельефы!#REF!","v":{"$error":"#REF!"}},{"$f":"Рельефы!#REF!","v":{"$error":"#REF!"}}]
[{"$nulls":3},"Рельеф № 66 Brick IV",{"$f":"Рельефы!#REF!","v":{"$error":"#REF!"}},{"$f":"Рельефы!#REF!","v":{"$error":"#REF!"}}]
[{"$nulls":3},"Рельеф № 67 Snake I",{"$f":"Рельефы!#REF!","v":{"$error":"#REF!"}},{"$f":"Рельефы!#REF!","v":{"$error":"#REF!"}}]
[{"$nulls":3},"Рельеф № 68 Snake II",{"$f":"Рельефы!#REF!","v":{"$error":"#REF!"}},{"$f":"Рельефы!#REF!","v":{"$error":"#REF!"}}]
[{"$nulls":3},"Рельеф № 69 Lips",{"$f":"Рельефы!#REF!","v":{"$error":"#REF!"}},{"$f":"Рельефы!#REF!","v":{"$error":"#REF!"}}]
[{"$nulls":3},"Рельеф № 70 Head V",{"$f":"Рельефы!#REF!","v":{"$error":"#REF!"}},{"$f":"Рельефы!#REF!","v":{"$error":"#REF!"}}]
[{"$nulls":3},"Набор рельефов Geometry",{"$f":"Рельефы!#REF!","v":{"$error":"#REF!"}},{"$f":"Рельефы!#REF!","v":{"$error":"#REF!"}}]
[{"$nulls":3},"Набор рельефов Heads",{"$f":"Рельефы!#REF!","v":{"$error":"#REF!"}},{"$f":"Рельефы!#REF!","v":{"$error":"#REF!"}}]
[{"$nulls":3},"Набор рельефов Pinches",{"$f":"Рельефы!#REF!","v":{"$error":"#REF!"}},{"$f":"Рельефы!#REF!","v":{"$error":"#REF!"}}]
[{"$nulls":3},"Набор рельефов Bricks",{"$f":"Рельефы!#REF!","v":{"$error":"#REF!"}},{"$f":"Рельефы!#REF!","v":{"$error":"#REF!"}}]
[{"$nulls":3},"Набор рельефов Virus PU",{"$f":"Рельефы!#REF!","v":{"$error":"#REF!"}},{"$f":"Рельефы!#REF!","v":{"$error":"#REF!"}}]
[{"$nulls":3},"Рельеф FF № 1",{"$f":"Рельефы!M84","v":0},{"$f":"Рельефы!Y84","v":0}]
[{"$nulls":3},"Рельеф FF № 2",{"$f":"Рельефы!#REF!","v":{"$error":"#REF!"}},{"$f":"Рельефы!#REF!","v":{"$error":"#REF!"}}]
[{"$nulls":3},"Рельеф PWV I",{"$f":"Рельефы!M91","v":0},{"$f":"Рельефы!Y91","v":0}]
[{"$nulls":3},"РельефPWV II",{"$f":"Рельефы!#REF!","v":{"$error":"#REF!"}},{"$f":"Рельефы!#REF!","v":{"$error":"#REF!"}}]
[{"$nulls":3},"Рельеф PWV III",{"$f":"Рельефы!M112","v":0},{"$f":"Рельефы!Y112","v":0}]
[{"$nulls":3},"Рельеф PWV IV Hexa",{"$f":"Рельефы!M113","v":0},{"$f":"Рельефы!Y113","v":0}]
[{"$nulls":3},"Рельеф PWV V Slice",{"$f":"Рельефы!M114","v":0},{"$f":"Рельефы!Y114","v":0}]
[{"$nulls":3},"Рельеф PWV VI Arrow",{"$f":"Рельефы!M115","v":0},{"$f":"Рельефы!Y115","v":0}]
[{"$nulls":3},"Рельеф PWV VII Manta",{"$f":"Рельефы!M116","v":0},{"$f":"Рельефы!Y116","v":0}]
[{"$nulls":3},"Рельеф PWV VIII Ladge",{"$f":"Рельефы!#REF!","v":{"$error":"#REF!"}},{"$f":"Рельефы!#REF!","v":{"$error":"#REF!"}}]
[{"$nulls":3},"Рельеф PWV IX Diamond",{"$f":"Рельефы!#REF!","v":{"$error":"#REF!"}},{"$f":"Рельефы!#REF!","v":{"$error":"#REF!"}}]
[{"$nulls":3},"Рельеф PWV X Planner",{"$f":"Рельефы!#REF!","v":{"$error":"#REF!"}},{"$f":"Рельефы!#REF!","v":{"$error":"#REF!"}}]
[{"$nulls":3},"Рельеф PWV XI Puramid S",{"$f":"Рельефы!#REF!","v":{"$error":"#REF!"}},{"$f":"Рельефы!#REF!","v":{"$error":"#REF!"}}]
[{"$nulls":3},"Рельеф PWV XII Basket",{"$f":"Рельефы!#REF!","v":{"$error":"#REF!"}},{"$f":"Рельефы!#REF!","v":{"$error":"#REF!"}}]
[{"$nulls":3},"Рельеф PWV XIII Pyramid XS",{"$f":"Рельефы!#REF!","v":{"$error":"#REF!"}},{"$f":"Рельефы!#REF!","v":{"$error":"#REF!"}}]
[{"$nulls":3},"Итого",{"$f":"SUM(E4:E91)","v":{"$error":"#REF!"}},{"$f":"SUM(F4:F91)","v":{"$error":"#REF!"}}]